BEGIN:VCALENDAR
VERSION:2.0
PRODID:-//Jamestown Charter Township - ECPv6.15.18//NONSGML v1.0//EN
CALSCALE:GREGORIAN
METHOD:PUBLISH
X-ORIGINAL-URL:https://twp.jamestown.mi.us
X-WR-CALDESC:Events for Jamestown Charter Township
REFRESH-INTERVAL;VALUE=DURATION:PT1H
X-Robots-Tag:noindex
X-PUBLISHED-TTL:PT1H
BEGIN:VTIMEZONE
TZID:America/New_York
BEGIN:DAYLIGHT
TZOFFSETFROM:-0500
TZOFFSETTO:-0400
TZNAME:EDT
DTSTART:20200308T070000
END:DAYLIGHT
BEGIN:STANDARD
TZOFFSETFROM:-0400
TZOFFSETTO:-0500
TZNAME:EST
DTSTART:20201101T060000
END:STANDARD
BEGIN:DAYLIGHT
TZOFFSETFROM:-0500
TZOFFSETTO:-0400
TZNAME:EDT
DTSTART:20210314T070000
END:DAYLIGHT
BEGIN:STANDARD
TZOFFSETFROM:-0400
TZOFFSETTO:-0500
TZNAME:EST
DTSTART:20211107T060000
END:STANDARD
BEGIN:DAYLIGHT
TZOFFSETFROM:-0500
TZOFFSETTO:-0400
TZNAME:EDT
DTSTART:20220313T070000
END:DAYLIGHT
BEGIN:STANDARD
TZOFFSETFROM:-0400
TZOFFSETTO:-0500
TZNAME:EST
DTSTART:20221106T060000
END:STANDARD
END:VTIMEZONE
BEGIN:VEVENT
DTSTART;TZID=America/New_York:20210310T090000
DTEND;TZID=America/New_York:20210310T150000
DTSTAMP:20260423T131631
CREATED:20210202T172259Z
LAST-MODIFIED:20210302T212251Z
UID:7202-1615366800-1615388400@twp.jamestown.mi.us
SUMMARY:Assessor's Board of Review via Zoom
DESCRIPTION:The Jamestown Township Board of Review will meet on Wednesday\, March 10th\, 2021\, from 9:00AM – 3:00PM and on Thursday\, March 11th\, 2021\, from 3:00PM – 9:00PM to hear assessment concerns. In compliance with the MDHSS pandemic regulations\, this meeting will be in a virtual/call-in format. \nNOTICE OF MEETING \nTo the Residents of Jamestown Charter Township:\nPlease be notified that the\n2021 Assessor’s Board of Review will be held via Zoom\nWednesday\, March 10 – 9am-3pm \nProperty owners who would like to appeal the assessment of their property must do so at these times. Appeals are by appointment only. For an appointment call 616-896-8376. \nJoin Meeting at https://us02web.zoom.us/j/88364127389?pwd=OFZ5aStPMmMvS3ZENnZFbG9yNjdGUT09\nMeeting ID: 883 6412 7389           Passcode: 493390           Join by phone: 1-312-626-6799
URL:https://twp.jamestown.mi.us/event/assessors-board-of-review-4/
END:VEVENT
BEGIN:VEVENT
DTSTART;TZID=America/New_York:20210311T150000
DTEND;TZID=America/New_York:20210311T210000
DTSTAMP:20260423T131631
CREATED:20210202T170326Z
LAST-MODIFIED:20210302T205711Z
UID:7190-1615474800-1615496400@twp.jamestown.mi.us
SUMMARY:Assessor's Board of Review via Zoom
DESCRIPTION:The Jamestown Township Board of Review will meet on Wednesday\, March 10th\, 2021\, from 9:00AM – 3:00PM and on Thursday\, March 11th\, 2021\, from 3:00PM – 9:00PM to hear assessment concerns. In compliance with the MDHSS pandemic regulations\, this meeting will be in a virtual/call-in format. \nNOTICE OF MEETING \nTo the Residents of Jamestown Charter Township:\nPlease be notified that the\n2021 Assessor’s Board of Review will be held via Zoom\nThursday\, March 11 – 3pm-9pm\nProperty owners who would like to appeal the assessment of their property must do so at these times. Appeals are by appointment only. For an appointment call 616-896-8376. \nJoin Meeting at https://us02web.zoom.us/j/88392583522?pwd=aDVhaDk4Snh2cUFQUUdEMU5mS3ozUT09\nMeeting ID: 883 9258 3522            Passcode: 800406           Join by phone: 1-312-626-6799
URL:https://twp.jamestown.mi.us/event/assessors-board-of-review-3/
END:VEVENT
BEGIN:VEVENT
DTSTART;TZID=America/New_York:20210315T174500
DTEND;TZID=America/New_York:20210315T184500
DTSTAMP:20260423T131631
CREATED:20210308T222617Z
LAST-MODIFIED:20210308T222724Z
UID:7396-1615830300-1615833900@twp.jamestown.mi.us
SUMMARY:Fire Board Meeting
DESCRIPTION:
URL:https://twp.jamestown.mi.us/event/fire-board-meeting-31/
LOCATION:Jamestown Fire Station #1\, 3801 24th Avenue\, Hudsonville\, MI\, 49426\, United States
END:VEVENT
END:VCALENDAR