BEGIN:VCALENDAR
VERSION:2.0
PRODID:-//Jamestown Charter Township - ECPv6.15.18//NONSGML v1.0//EN
CALSCALE:GREGORIAN
METHOD:PUBLISH
X-ORIGINAL-URL:https://twp.jamestown.mi.us
X-WR-CALDESC:Events for Jamestown Charter Township
REFRESH-INTERVAL;VALUE=DURATION:PT1H
X-Robots-Tag:noindex
X-PUBLISHED-TTL:PT1H
BEGIN:VTIMEZONE
TZID:America/New_York
BEGIN:DAYLIGHT
TZOFFSETFROM:-0500
TZOFFSETTO:-0400
TZNAME:EDT
DTSTART:20190310T070000
END:DAYLIGHT
BEGIN:STANDARD
TZOFFSETFROM:-0400
TZOFFSETTO:-0500
TZNAME:EST
DTSTART:20191103T060000
END:STANDARD
BEGIN:DAYLIGHT
TZOFFSETFROM:-0500
TZOFFSETTO:-0400
TZNAME:EDT
DTSTART:20200308T070000
END:DAYLIGHT
BEGIN:STANDARD
TZOFFSETFROM:-0400
TZOFFSETTO:-0500
TZNAME:EST
DTSTART:20201101T060000
END:STANDARD
BEGIN:DAYLIGHT
TZOFFSETFROM:-0500
TZOFFSETTO:-0400
TZNAME:EDT
DTSTART:20210314T070000
END:DAYLIGHT
BEGIN:STANDARD
TZOFFSETFROM:-0400
TZOFFSETTO:-0500
TZNAME:EST
DTSTART:20211107T060000
END:STANDARD
END:VTIMEZONE
BEGIN:VEVENT
DTSTART;TZID=America/New_York:20201103T070000
DTEND;TZID=America/New_York:20201103T200000
DTSTAMP:20260423T190917
CREATED:20190822T210523Z
LAST-MODIFIED:20190822T210628Z
UID:5694-1604386800-1604433600@twp.jamestown.mi.us
SUMMARY:General Election
DESCRIPTION:Precinct Locations:\n– Precinct #1 – Library\, 2445 Riley Street\n– Precinct #2 – Forest Grove CRC\, 3515 Perry Street\n– Precinct #3 – Township Hall\, 2380 Riley Street
URL:https://twp.jamestown.mi.us/event/general-election-2/
END:VEVENT
BEGIN:VEVENT
DTSTART;TZID=America/New_York:20201116T174500
DTEND;TZID=America/New_York:20201116T184500
DTSTAMP:20260423T190917
CREATED:20200113T213144Z
LAST-MODIFIED:20201116T200644Z
UID:6091-1605548700-1605552300@twp.jamestown.mi.us
SUMMARY:Fire Board Meeting
DESCRIPTION:
URL:https://twp.jamestown.mi.us/event/fire-board-meeting-30/
LOCATION:Jamestown Fire Station #1\, 3801 24th Avenue\, Hudsonville\, MI\, 49426\, United States
END:VEVENT
BEGIN:VEVENT
DTSTART;TZID=America/New_York:20201116T190000
DTEND;TZID=America/New_York:20201116T210000
DTSTAMP:20260423T190917
CREATED:20200102T221415Z
LAST-MODIFIED:20201026T224820Z
UID:6023-1605553200-1605560400@twp.jamestown.mi.us
SUMMARY:Township Board Meeting
DESCRIPTION:NOTICE OF A PUBLIC HEARING\nJAMESTOWN CHARTER TOWNSHIP BOARD OF TRUSTEES \nTO:	CITIZENS AND RESIDENTS OF THE CHARTER TOWNSHIP OF JAMESTOWN\, OTTAWA COUNTY\, MICHIGAN. \nPLEASE TAKE NOTICE that on Monday\, November 16\, 2020\, at 7:00 p.m.\, local time\, a public hearing will be held by the Board of Trustees of the Charter Township of Jamestown\, Ottawa County\, Michigan\, at the Jamestown Charter Township Hall\, 2380 Riley Street\, Hudsonville\, Michigan\, 49426\, to hear and consider the Final Development Plan for the Waterton Station Planned Development. \nSection 1\nThe proposed Final Development Plan and map amendment (rezoning) for Waterton Station seeks to establish a 446-unit residential development\, a Senior Living Area which will contain a 70 room assisted living facility and 46 units of Independent Living space\, open space\, sidewalks\, storm water detention\, public streets\, private streets\, and related infrastructure in the Planned Development Zoning District. The property is located on the south side of Quincy Street and the east side of 24th Avenue at approximately 2020 Quincy Street\, parcel numbers 70-18-10-100-009\, 70-18-10-100-001\, and 70-18-10-100-008\, and is legally described as follows:  \nPART OF NW 1/4 COM S 02D 58M 55S W 725 FT FROM N 1/4 COR\, TH CONT S 02D 58M 55S W 1925.97 FT\, TH S 89D 59M 51S W 1415.78 FT ALG E&W 1/4 LI\, TH N 02D 49M 58S E 300 FT\, TH S 89D 59M 51S W 250 FT\, TH N 02D 49M 58S E 2361.27 FT ALG W LI OF E 5/8 OF NW 1/4\, TH S 89D 38M 17S E 462.19 FT ALG N SEC LI\, TH S 02D 58 M 55S W 300 FT\, TH S 89D 38M 17S E 350 FT\, TH N 02D 58M 55S E 300 FT\, TH S 89D 38M 17S E 660 FT ALG N SEC LI\, TH S 02D 58M 55S W 320 FT\, S 32D 45M 43S W 100.57 FT\, S 02D 58M 55S W 320 FT\, TH S 89D 38M 17S E 250 FT TO BEG\, EXC COM NW COR OF E 20 A OF W 1/2 OF NW 1/4 TH E TO PT 1210 FT W OF N 1/4 COR\, TH S 50 FT\, W TO PT S OF BEG\, TH N 50 FT TO BEG (L4659 P949). SEC 10 T5N R13W.\nAND\nW 3/8 OF NW 1/4 EXC COM 1932 FT S OF NW COR\, TH S 179.4 FT\, E 33 FT\, N 179.4 FT\, W 333 FT TO BEG\, ALSO EXC N 50 FT\, ALSO EXC W 50 FT OF S 80 FT OF N 130 FT THEREOF. SEC 10 T5N R13W.\nAND\nPART OF NW 1/4 COM AT N 1/4 COR\, TH S 02D 58M 55S W 725 FT\, N 89D 38M 17S W 250 FT\, N 02D 58M 55S E 320 FT\, N 32D 45 M 43S E 100.57 FT\, N 02D 58M 55S E 320 FT\, TH S 89D 38M 17S E 200 FT ALG N SEC LI TO BEG. SEC 10 T5N R13W 3.74 AC. \nSection 2\nAny person interested in this matter may appear at such hearing in person or by agent or attorney. The tentative Final Development Plan may be examined by any person at the Jamestown Township Hall. Written comments concerning this matter may be filed prior to the hearing with the Jamestown Charter Township Clerk\, Jamestown Charter Township Hall\, 2380 Riley Street\, Hudsonville\, Michigan\, 49426\, (Phone 616-896-8376)\, between 9:00 a.m. and 5:00 p.m.\, Monday\, Tuesday and Thursday. \nIndividuals with disabilities requiring auxiliary aids or services should contact the Township Office five (5) days prior to the hearing.  \nDated: October 27\, 2020					Candy DeHaan\, Clerk\n							Jamestown Charter Township
URL:https://twp.jamestown.mi.us/event/township-board-meeting-40/
LOCATION:Jamestown Charter Township Hall\, 2380 Riley Street\, Hudsonville\, MI\, 49426\, United States
ORGANIZER;CN="Ken Bergwerff":MAILTO:kbergwerff@twp.jamestown.mi.us
END:VEVENT
BEGIN:VEVENT
DTSTART;TZID=America/New_York:20201117T190000
DTEND;TZID=America/New_York:20201117T210000
DTSTAMP:20260423T190917
CREATED:20200102T222246Z
LAST-MODIFIED:20201111T145425Z
UID:6059-1605639600-1605646800@twp.jamestown.mi.us
SUMMARY:Planning Commission Meeting is CANCELLED
DESCRIPTION:
URL:https://twp.jamestown.mi.us/event/planning-commission-meeting-42/
LOCATION:Jamestown Charter Township Hall\, 2380 Riley Street\, Hudsonville\, MI\, 49426\, United States
END:VEVENT
BEGIN:VEVENT
DTSTART;TZID=America/New_York:20201119T190000
DTEND;TZID=America/New_York:20201119T210000
DTSTAMP:20260423T190917
CREATED:20200114T203858Z
LAST-MODIFIED:20200114T203858Z
UID:6154-1605812400-1605819600@twp.jamestown.mi.us
SUMMARY:Park Planning Committee
DESCRIPTION:
URL:https://twp.jamestown.mi.us/event/park-planning-committee-17/
LOCATION:Jamestown Charter Township Hall\, 2380 Riley Street\, Hudsonville\, MI\, 49426\, United States
END:VEVENT
BEGIN:VEVENT
DTSTART;TZID=America/New_York:20201126T090000
DTEND;TZID=America/New_York:20201126T170000
DTSTAMP:20260423T190917
CREATED:20200102T204202Z
LAST-MODIFIED:20200102T204202Z
UID:5979-1606381200-1606410000@twp.jamestown.mi.us
SUMMARY:Thanksgiving – Township Office Closed
DESCRIPTION:
URL:https://twp.jamestown.mi.us/event/thanksgiving-township-office-closed-2/
END:VEVENT
END:VCALENDAR