BEGIN:VCALENDAR
VERSION:2.0
PRODID:-//Jamestown Charter Township - ECPv6.15.18//NONSGML v1.0//EN
CALSCALE:GREGORIAN
METHOD:PUBLISH
X-ORIGINAL-URL:https://twp.jamestown.mi.us
X-WR-CALDESC:Events for Jamestown Charter Township
REFRESH-INTERVAL;VALUE=DURATION:PT1H
X-Robots-Tag:noindex
X-PUBLISHED-TTL:PT1H
BEGIN:VTIMEZONE
TZID:America/New_York
BEGIN:DAYLIGHT
TZOFFSETFROM:-0500
TZOFFSETTO:-0400
TZNAME:EDT
DTSTART:20190310T070000
END:DAYLIGHT
BEGIN:STANDARD
TZOFFSETFROM:-0400
TZOFFSETTO:-0500
TZNAME:EST
DTSTART:20191103T060000
END:STANDARD
BEGIN:DAYLIGHT
TZOFFSETFROM:-0500
TZOFFSETTO:-0400
TZNAME:EDT
DTSTART:20200308T070000
END:DAYLIGHT
BEGIN:STANDARD
TZOFFSETFROM:-0400
TZOFFSETTO:-0500
TZNAME:EST
DTSTART:20201101T060000
END:STANDARD
BEGIN:DAYLIGHT
TZOFFSETFROM:-0500
TZOFFSETTO:-0400
TZNAME:EDT
DTSTART:20210314T070000
END:DAYLIGHT
BEGIN:STANDARD
TZOFFSETFROM:-0400
TZOFFSETTO:-0500
TZNAME:EST
DTSTART:20211107T060000
END:STANDARD
END:VTIMEZONE
BEGIN:VEVENT
DTSTART;TZID=America/New_York:20200902T190000
DTEND;TZID=America/New_York:20200902T210000
DTSTAMP:20260423T214538
CREATED:20200831T162826Z
LAST-MODIFIED:20200831T162826Z
UID:6761-1599073200-1599080400@twp.jamestown.mi.us
SUMMARY:Township Board Special Meeting
DESCRIPTION:Join Zoom Meeting\nhttps://us02web.zoom.us/j/88948031391?pwd=V2kzbFJCZGF3NThGeUlGTEg5d1lxUT09\nMeeting ID: 889 4803 1391\nPasscode: 139327\n+1 646 558 8656\nMeeting ID: 889 4803 1391\nPasscode: 139327\nFind your local number: https://us02web.zoom.us/u/kenoJhRP3i
URL:https://twp.jamestown.mi.us/event/township-board-special-meeting/
ORGANIZER;CN="Ken Bergwerff":MAILTO:kbergwerff@twp.jamestown.mi.us
END:VEVENT
BEGIN:VEVENT
DTSTART;TZID=America/New_York:20200907T090000
DTEND;TZID=America/New_York:20200907T170000
DTSTAMP:20260423T214538
CREATED:20200102T204111Z
LAST-MODIFIED:20200102T204111Z
UID:5976-1599469200-1599498000@twp.jamestown.mi.us
SUMMARY:Labor Day – Township Office Closed
DESCRIPTION:
URL:https://twp.jamestown.mi.us/event/labor-day-township-office-closed-2/
END:VEVENT
BEGIN:VEVENT
DTSTART;TZID=America/New_York:20200912T090000
DTEND;TZID=America/New_York:20200912T120000
DTSTAMP:20260423T214538
CREATED:20200901T171332Z
LAST-MODIFIED:20200901T172945Z
UID:6764-1599901200-1599912000@twp.jamestown.mi.us
SUMMARY:Special Hours – Treasurer’s Office
DESCRIPTION:The Treasurer’s Office will be open to accept Summer Property Tax Payments.
URL:https://twp.jamestown.mi.us/event/special-hours-treasurers-office-5/
LOCATION:Jamestown Charter Township Hall\, 2380 Riley Street\, Hudsonville\, MI\, 49426\, United States
END:VEVENT
BEGIN:VEVENT
DTSTART;TZID=America/New_York:20200914T170000
DTEND;TZID=America/New_York:20200914T170000
DTSTAMP:20260423T214538
CREATED:20200901T171448Z
LAST-MODIFIED:20200901T173438Z
UID:6767-1600102800-1600102800@twp.jamestown.mi.us
SUMMARY:Summer Property Taxes Due at 5pm
DESCRIPTION:
URL:https://twp.jamestown.mi.us/event/summer-property-taxes-due-at-5pm/
LOCATION:Jamestown Charter Township Hall\, 2380 Riley Street\, Hudsonville\, MI\, 49426\, United States
END:VEVENT
BEGIN:VEVENT
DTSTART;TZID=America/New_York:20200915T190000
DTEND;TZID=America/New_York:20200915T210000
DTSTAMP:20260423T214538
CREATED:20200102T222139Z
LAST-MODIFIED:20200905T150604Z
UID:6053-1600196400-1600203600@twp.jamestown.mi.us
SUMMARY:Planning Commission Meeting
DESCRIPTION:The purpose of our meeting is to hear and consider the following: \n•	Rolling Meadows Phase 5 and Phase 6 – Tentative Preliminary Plat
URL:https://twp.jamestown.mi.us/event/planning-commission-meeting-40/
LOCATION:Jamestown Charter Township Hall\, 2380 Riley Street\, Hudsonville\, MI\, 49426\, United States
END:VEVENT
BEGIN:VEVENT
DTSTART;TZID=America/New_York:20200917T190000
DTEND;TZID=America/New_York:20200917T210000
DTSTAMP:20260423T214538
CREATED:20200114T203730Z
LAST-MODIFIED:20200114T203730Z
UID:6148-1600369200-1600376400@twp.jamestown.mi.us
SUMMARY:Park Planning Committee
DESCRIPTION:
URL:https://twp.jamestown.mi.us/event/park-planning-committee-15/
LOCATION:Jamestown Charter Township Hall\, 2380 Riley Street\, Hudsonville\, MI\, 49426\, United States
END:VEVENT
BEGIN:VEVENT
DTSTART;TZID=America/New_York:20200921T174500
DTEND;TZID=America/New_York:20200921T184500
DTSTAMP:20260423T214538
CREATED:20200113T213051Z
LAST-MODIFIED:20200113T213051Z
UID:6088-1600710300-1600713900@twp.jamestown.mi.us
SUMMARY:Fire Board Meeting
DESCRIPTION:
URL:https://twp.jamestown.mi.us/event/fire-board-meeting-29/
LOCATION:Jamestown Charter Township Hall\, 2380 Riley Street\, Hudsonville\, MI\, 49426\, United States
END:VEVENT
BEGIN:VEVENT
DTSTART;TZID=America/New_York:20200921T190000
DTEND;TZID=America/New_York:20200921T210000
DTSTAMP:20260423T214538
CREATED:20200102T221253Z
LAST-MODIFIED:20200915T195332Z
UID:6017-1600714800-1600722000@twp.jamestown.mi.us
SUMMARY:Township Board Meeting
DESCRIPTION:Join Zoom Meeting:\nhttps://us02web.zoom.us/j/88586135849?pwd=U2V4MDVaMmFpVzZTS1hGQmp3aTY4dz09\nDial by your location\n        +1 646 558 8656\nMeeting ID: 885 8613 5849\nPasscode: 409220
URL:https://twp.jamestown.mi.us/event/township-board-meeting-38/
LOCATION:Jamestown Charter Township Hall\, 2380 Riley Street\, Hudsonville\, MI\, 49426\, United States
ORGANIZER;CN="Ken Bergwerff":MAILTO:kbergwerff@twp.jamestown.mi.us
END:VEVENT
END:VCALENDAR