BEGIN:VCALENDAR
VERSION:2.0
PRODID:-//Jamestown Charter Township - ECPv6.15.18//NONSGML v1.0//EN
CALSCALE:GREGORIAN
METHOD:PUBLISH
X-WR-CALNAME:Jamestown Charter Township
X-ORIGINAL-URL:https://twp.jamestown.mi.us
X-WR-CALDESC:Events for Jamestown Charter Township
REFRESH-INTERVAL;VALUE=DURATION:PT1H
X-Robots-Tag:noindex
X-PUBLISHED-TTL:PT1H
BEGIN:VTIMEZONE
TZID:America/New_York
BEGIN:DAYLIGHT
TZOFFSETFROM:-0500
TZOFFSETTO:-0400
TZNAME:EDT
DTSTART:20190310T070000
END:DAYLIGHT
BEGIN:STANDARD
TZOFFSETFROM:-0400
TZOFFSETTO:-0500
TZNAME:EST
DTSTART:20191103T060000
END:STANDARD
BEGIN:DAYLIGHT
TZOFFSETFROM:-0500
TZOFFSETTO:-0400
TZNAME:EDT
DTSTART:20200308T070000
END:DAYLIGHT
BEGIN:STANDARD
TZOFFSETFROM:-0400
TZOFFSETTO:-0500
TZNAME:EST
DTSTART:20201101T060000
END:STANDARD
BEGIN:DAYLIGHT
TZOFFSETFROM:-0500
TZOFFSETTO:-0400
TZNAME:EDT
DTSTART:20210314T070000
END:DAYLIGHT
BEGIN:STANDARD
TZOFFSETFROM:-0400
TZOFFSETTO:-0500
TZNAME:EST
DTSTART:20211107T060000
END:STANDARD
END:VTIMEZONE
BEGIN:VEVENT
DTSTART;TZID=America/New_York:20200414T140000
DTEND;TZID=America/New_York:20200414T150000
DTSTAMP:20260424T050519
CREATED:20200114T200946Z
LAST-MODIFIED:20200402T181551Z
UID:6114-1586872800-1586876400@twp.jamestown.mi.us
SUMMARY:Public Accuracy Test for Election Equipment
DESCRIPTION:Due to public health concerns and in accordance with Executive Orders No. 2020-21\nand 2020-27\, the Public Accuracy Tests will be broadcast via Facebook Live at\nOttawa County Clerk/Register of Deeds (@OCClerkRegister) on April 14th at 2pm.
URL:https://twp.jamestown.mi.us/event/public-accuracy-test-for-election-equipment-3/
LOCATION:Jamestown Charter Township Hall\, 2380 Riley Street\, Hudsonville\, MI\, 49426\, United States
ORGANIZER;CN="Candy DeHaan%2C Twp Clerk":MAILTO:cdehaan@twp.jamestown.mi.us
END:VEVENT
BEGIN:VEVENT
DTSTART;TZID=America/New_York:20200416T190000
DTEND;TZID=America/New_York:20200416T210000
DTSTAMP:20260424T050519
CREATED:20200114T203430Z
LAST-MODIFIED:20200410T152235Z
UID:6133-1587063600-1587070800@twp.jamestown.mi.us
SUMMARY:Park Planning Committee is CANCELLED
DESCRIPTION:
URL:https://twp.jamestown.mi.us/event/park-planning-committee-10/
LOCATION:Jamestown Charter Township Hall\, 2380 Riley Street\, Hudsonville\, MI\, 49426\, United States
END:VEVENT
BEGIN:VEVENT
DTSTART;TZID=America/New_York:20200420T190000
DTEND;TZID=America/New_York:20200420T210000
DTSTAMP:20260424T050519
CREATED:20200102T220938Z
LAST-MODIFIED:20200420T170340Z
UID:6002-1587409200-1587416400@twp.jamestown.mi.us
SUMMARY:Township Board Meeting
DESCRIPTION:Board Meeting Call In Instructions via ZOOM
URL:https://twp.jamestown.mi.us/event/township-board-meeting-33/
LOCATION:Jamestown Charter Township Hall\, 2380 Riley Street\, Hudsonville\, MI\, 49426\, United States
ORGANIZER;CN="Ken Bergwerff":MAILTO:kbergwerff@twp.jamestown.mi.us
END:VEVENT
BEGIN:VEVENT
DTSTART;TZID=America/New_York:20200421T160000
DTEND;TZID=America/New_York:20200421T160000
DTSTAMP:20260424T050519
CREATED:20190629T152640Z
LAST-MODIFIED:20190629T153218Z
UID:5521-1587484800-1587484800@twp.jamestown.mi.us
SUMMARY:Filing Deadline for August Primary
DESCRIPTION:
URL:https://twp.jamestown.mi.us/event/filing-deadline-for-august-primary/
LOCATION:Township Clerk’s Office\, 2380 Riley Street\, Hudsonville\, MI\, 49426
ORGANIZER;CN="Candy DeHaan%2C Twp Clerk":MAILTO:cdehaan@twp.jamestown.mi.us
END:VEVENT
BEGIN:VEVENT
DTSTART;TZID=America/New_York:20200421T190000
DTEND;TZID=America/New_York:20200421T210000
DTSTAMP:20260424T050519
CREATED:20200102T221845Z
LAST-MODIFIED:20200407T205452Z
UID:6038-1587495600-1587502800@twp.jamestown.mi.us
SUMMARY:Planning Commission Meeting is CANCELLED
DESCRIPTION:
URL:https://twp.jamestown.mi.us/event/planning-commission-meeting-35/
LOCATION:Jamestown Charter Township Hall\, 2380 Riley Street\, Hudsonville\, MI\, 49426\, United States
END:VEVENT
BEGIN:VEVENT
DTSTART;TZID=America/New_York:20200424T130000
DTEND;TZID=America/New_York:20200424T131500
DTSTAMP:20260424T050519
CREATED:20200423T224945Z
LAST-MODIFIED:20200423T224945Z
UID:6494-1587733200-1587734100@twp.jamestown.mi.us
SUMMARY:Election Commission Meeting
DESCRIPTION:NOTICE OF MEETING \nTo the Residents of Jamestown Charter Township:\nPlease be notified that there will be a\nMeeting of the Jamestown Election Commission\nFriday\, April 24 2020 at 1:00pm\nJamestown Charter Township Hall\n2380 Riley Street\nClerk’s Office \nThe purpose of the meeting is to approve May 5th Election Inspectors for Absentee Voter Counting Board .
URL:https://twp.jamestown.mi.us/event/election-commission-meeting-4/
LOCATION:Jamestown Charter Township Hall\, 2380 Riley Street\, Hudsonville\, MI\, 49426\, United States
ORGANIZER;CN="Candy DeHaan%2C Twp Clerk":MAILTO:cdehaan@twp.jamestown.mi.us
END:VEVENT
BEGIN:VEVENT
DTSTART;TZID=America/New_York:20200428T180000
DTEND;TZID=America/New_York:20200428T200000
DTSTAMP:20260424T050519
CREATED:20200422T142255Z
LAST-MODIFIED:20200422T152754Z
UID:6479-1588096800-1588104000@twp.jamestown.mi.us
SUMMARY:Parks and Recreation Committee Meeting
DESCRIPTION:Agenda \n  \nJoin Zoom Meeting \nhttps://zoom.us/j/99408841861?pwd=aGJlRnMvaXpoYzdsS3c0cENYVmQwdz09 \n  \nMeeting ID: 994 0884 1861 \nPassword: 091273 \n  \nDial by your location \n        +1 646 558 8656 US  \n 
URL:https://twp.jamestown.mi.us/event/parks-and-recreation-committee-meeting-4/
END:VEVENT
END:VCALENDAR