BEGIN:VCALENDAR
VERSION:2.0
PRODID:-//Jamestown Charter Township - ECPv6.15.18//NONSGML v1.0//EN
CALSCALE:GREGORIAN
METHOD:PUBLISH
X-ORIGINAL-URL:https://twp.jamestown.mi.us
X-WR-CALDESC:Events for Jamestown Charter Township
REFRESH-INTERVAL;VALUE=DURATION:PT1H
X-Robots-Tag:noindex
X-PUBLISHED-TTL:PT1H
BEGIN:VTIMEZONE
TZID:America/New_York
BEGIN:DAYLIGHT
TZOFFSETFROM:-0500
TZOFFSETTO:-0400
TZNAME:EDT
DTSTART:20190310T070000
END:DAYLIGHT
BEGIN:STANDARD
TZOFFSETFROM:-0400
TZOFFSETTO:-0500
TZNAME:EST
DTSTART:20191103T060000
END:STANDARD
BEGIN:DAYLIGHT
TZOFFSETFROM:-0500
TZOFFSETTO:-0400
TZNAME:EDT
DTSTART:20200308T070000
END:DAYLIGHT
BEGIN:STANDARD
TZOFFSETFROM:-0400
TZOFFSETTO:-0500
TZNAME:EST
DTSTART:20201101T060000
END:STANDARD
BEGIN:DAYLIGHT
TZOFFSETFROM:-0500
TZOFFSETTO:-0400
TZNAME:EDT
DTSTART:20210314T070000
END:DAYLIGHT
BEGIN:STANDARD
TZOFFSETFROM:-0400
TZOFFSETTO:-0500
TZNAME:EST
DTSTART:20211107T060000
END:STANDARD
END:VTIMEZONE
BEGIN:VEVENT
DTSTART;TZID=America/New_York:20200205T153000
DTEND;TZID=America/New_York:20200205T170000
DTSTAMP:20260424T080156
CREATED:20200114T200858Z
LAST-MODIFIED:20200114T200858Z
UID:6111-1580916600-1580922000@twp.jamestown.mi.us
SUMMARY:Public Accuracy Test for Election Equipment
DESCRIPTION:
URL:https://twp.jamestown.mi.us/event/public-accuracy-test-for-election-equipment-2/
LOCATION:Jamestown Charter Township Hall\, 2380 Riley Street\, Hudsonville\, MI\, 49426\, United States
ORGANIZER;CN="Candy DeHaan%2C Twp Clerk":MAILTO:cdehaan@twp.jamestown.mi.us
END:VEVENT
BEGIN:VEVENT
DTSTART;TZID=America/New_York:20200208T090000
DTEND;TZID=America/New_York:20200208T120000
DTSTAMP:20260424T080156
CREATED:20200201T180216Z
LAST-MODIFIED:20200201T180216Z
UID:6199-1581152400-1581163200@twp.jamestown.mi.us
SUMMARY:Special Hours – Treasurer’s Office
DESCRIPTION:The Treasurer’s Office will be open to accept tax payments from 9:00 am until noon.
URL:https://twp.jamestown.mi.us/event/special-hours-treasurers-office-4/
END:VEVENT
BEGIN:VEVENT
DTSTART;TZID=America/New_York:20200214T170000
DTEND;TZID=America/New_York:20200214T170000
DTSTAMP:20260424T080157
CREATED:20200213T153338Z
LAST-MODIFIED:20200213T153338Z
UID:6232-1581699600-1581699600@twp.jamestown.mi.us
SUMMARY:Winter Taxes dues
DESCRIPTION:
URL:https://twp.jamestown.mi.us/event/winter-taxes-dues-2/
LOCATION:Jamestown Charter Township Hall\, 2380 Riley Street\, Hudsonville\, MI\, 49426\, United States
END:VEVENT
BEGIN:VEVENT
DTSTART;TZID=America/New_York:20200217T190000
DTEND;TZID=America/New_York:20200217T210000
DTSTAMP:20260424T080157
CREATED:20200102T220807Z
LAST-MODIFIED:20200102T220807Z
UID:5995-1581966000-1581973200@twp.jamestown.mi.us
SUMMARY:Township Board Meeting
DESCRIPTION:
URL:https://twp.jamestown.mi.us/event/township-board-meeting-31/
LOCATION:Jamestown Charter Township Hall\, 2380 Riley Street\, Hudsonville\, MI\, 49426\, United States
ORGANIZER;CN="Ken Bergwerff":MAILTO:kbergwerff@twp.jamestown.mi.us
END:VEVENT
BEGIN:VEVENT
DTSTART;TZID=America/New_York:20200218T190000
DTEND;TZID=America/New_York:20200218T210000
DTSTAMP:20260424T080157
CREATED:20200102T221724Z
LAST-MODIFIED:20200102T221724Z
UID:6032-1582052400-1582059600@twp.jamestown.mi.us
SUMMARY:Planning Commission Meeting
DESCRIPTION:
URL:https://twp.jamestown.mi.us/event/planning-commission-meeting-33/
LOCATION:Jamestown Charter Township Hall\, 2380 Riley Street\, Hudsonville\, MI\, 49426\, United States
END:VEVENT
BEGIN:VEVENT
DTSTART;TZID=America/New_York:20200219T190000
DTEND;TZID=America/New_York:20200219T210000
DTSTAMP:20260424T080157
CREATED:20200208T143653Z
LAST-MODIFIED:20200208T143959Z
UID:6207-1582138800-1582146000@twp.jamestown.mi.us
SUMMARY:Parks and Recreation Committee Meeting
DESCRIPTION:
URL:https://twp.jamestown.mi.us/event/parks-and-recreation-committee-meeting-3/
LOCATION:Jamestown Charter Township Hall\, 2380 Riley Street\, Hudsonville\, MI\, 49426\, United States
END:VEVENT
BEGIN:VEVENT
DTSTART;TZID=America/New_York:20200220T190000
DTEND;TZID=America/New_York:20200220T210000
DTSTAMP:20260424T080157
CREATED:20200114T203315Z
LAST-MODIFIED:20200114T203315Z
UID:6127-1582225200-1582232400@twp.jamestown.mi.us
SUMMARY:Park Planning Committee
DESCRIPTION:
URL:https://twp.jamestown.mi.us/event/park-planning-committee-8/
LOCATION:Jamestown Charter Township Hall\, 2380 Riley Street\, Hudsonville\, MI\, 49426\, United States
END:VEVENT
END:VCALENDAR