BEGIN:VCALENDAR
VERSION:2.0
PRODID:-//Jamestown Charter Township - ECPv6.15.18//NONSGML v1.0//EN
CALSCALE:GREGORIAN
METHOD:PUBLISH
X-ORIGINAL-URL:https://twp.jamestown.mi.us
X-WR-CALDESC:Events for Jamestown Charter Township
REFRESH-INTERVAL;VALUE=DURATION:PT1H
X-Robots-Tag:noindex
X-PUBLISHED-TTL:PT1H
BEGIN:VTIMEZONE
TZID:America/New_York
BEGIN:DAYLIGHT
TZOFFSETFROM:-0500
TZOFFSETTO:-0400
TZNAME:EDT
DTSTART:20190310T070000
END:DAYLIGHT
BEGIN:STANDARD
TZOFFSETFROM:-0400
TZOFFSETTO:-0500
TZNAME:EST
DTSTART:20191103T060000
END:STANDARD
BEGIN:DAYLIGHT
TZOFFSETFROM:-0500
TZOFFSETTO:-0400
TZNAME:EDT
DTSTART:20200308T070000
END:DAYLIGHT
BEGIN:STANDARD
TZOFFSETFROM:-0400
TZOFFSETTO:-0500
TZNAME:EST
DTSTART:20201101T060000
END:STANDARD
BEGIN:DAYLIGHT
TZOFFSETFROM:-0500
TZOFFSETTO:-0400
TZNAME:EDT
DTSTART:20210314T070000
END:DAYLIGHT
BEGIN:STANDARD
TZOFFSETFROM:-0400
TZOFFSETTO:-0500
TZNAME:EST
DTSTART:20211107T060000
END:STANDARD
END:VTIMEZONE
BEGIN:VEVENT
DTSTART;TZID=America/New_York:20200116T190000
DTEND;TZID=America/New_York:20200116T210000
DTSTAMP:20260424T093802
CREATED:20200114T202827Z
LAST-MODIFIED:20200114T202827Z
UID:6124-1579201200-1579208400@twp.jamestown.mi.us
SUMMARY:Park Planning Committee
DESCRIPTION:
URL:https://twp.jamestown.mi.us/event/park-planning-committee-7/
LOCATION:Jamestown Charter Township Hall\, 2380 Riley Street\, Hudsonville\, MI\, 49426\, United States
END:VEVENT
BEGIN:VEVENT
DTSTART;TZID=America/New_York:20200120T060000
DTEND;TZID=America/New_York:20200120T210000
DTSTAMP:20260424T093802
CREATED:20191217T152744Z
LAST-MODIFIED:20191217T153104Z
UID:5955-1579500000-1579554000@twp.jamestown.mi.us
SUMMARY:Work Session for Library & Township Boards\, followed by the regular Township Board Meeting
DESCRIPTION:6:00 PM – Work Session for Library & Township Boards\n7:00 PM – Township Board Meeting
URL:https://twp.jamestown.mi.us/event/work-session-for-library-township-boards-followed-by-the-regular-township-board-meeting/
LOCATION:Jamestown Charter Township Hall\, 2380 Riley Street\, Hudsonville\, MI\, 49426\, United States
ORGANIZER;CN="Ken Bergwerff":MAILTO:kbergwerff@twp.jamestown.mi.us
END:VEVENT
BEGIN:VEVENT
DTSTART;TZID=America/New_York:20200120T171500
DTEND;TZID=America/New_York:20200120T174500
DTSTAMP:20260424T093802
CREATED:20200113T212554Z
LAST-MODIFIED:20200113T212554Z
UID:6075-1579540500-1579542300@twp.jamestown.mi.us
SUMMARY:Fire Board Meeting (Note early time)
DESCRIPTION:
URL:https://twp.jamestown.mi.us/event/fire-board-meeting-note-early-time/
LOCATION:Jamestown Charter Township Hall\, 2380 Riley Street\, Hudsonville\, MI\, 49426\, United States
END:VEVENT
BEGIN:VEVENT
DTSTART;TZID=America/New_York:20200121T190000
DTEND;TZID=America/New_York:20200121T210000
DTSTAMP:20260424T093802
CREATED:20200102T221642Z
LAST-MODIFIED:20200102T221642Z
UID:6029-1579633200-1579640400@twp.jamestown.mi.us
SUMMARY:Planning Commission Meeting
DESCRIPTION:
URL:https://twp.jamestown.mi.us/event/planning-commission-meeting-32/
LOCATION:Jamestown Charter Township Hall\, 2380 Riley Street\, Hudsonville\, MI\, 49426\, United States
END:VEVENT
END:VCALENDAR