BEGIN:VCALENDAR
VERSION:2.0
PRODID:-//Jamestown Charter Township - ECPv6.15.18//NONSGML v1.0//EN
CALSCALE:GREGORIAN
METHOD:PUBLISH
X-ORIGINAL-URL:https://twp.jamestown.mi.us
X-WR-CALDESC:Events for Jamestown Charter Township
REFRESH-INTERVAL;VALUE=DURATION:PT1H
X-Robots-Tag:noindex
X-PUBLISHED-TTL:PT1H
BEGIN:VTIMEZONE
TZID:America/New_York
BEGIN:DAYLIGHT
TZOFFSETFROM:-0500
TZOFFSETTO:-0400
TZNAME:EDT
DTSTART:20180311T070000
END:DAYLIGHT
BEGIN:STANDARD
TZOFFSETFROM:-0400
TZOFFSETTO:-0500
TZNAME:EST
DTSTART:20181104T060000
END:STANDARD
BEGIN:DAYLIGHT
TZOFFSETFROM:-0500
TZOFFSETTO:-0400
TZNAME:EDT
DTSTART:20190310T070000
END:DAYLIGHT
BEGIN:STANDARD
TZOFFSETFROM:-0400
TZOFFSETTO:-0500
TZNAME:EST
DTSTART:20191103T060000
END:STANDARD
BEGIN:DAYLIGHT
TZOFFSETFROM:-0500
TZOFFSETTO:-0400
TZNAME:EDT
DTSTART:20200308T070000
END:DAYLIGHT
BEGIN:STANDARD
TZOFFSETFROM:-0400
TZOFFSETTO:-0500
TZNAME:EST
DTSTART:20201101T060000
END:STANDARD
END:VTIMEZONE
BEGIN:VEVENT
DTSTART;TZID=America/New_York:20191210T160000
DTEND;TZID=America/New_York:20191210T170000
DTSTAMP:20260424T113056
CREATED:20191026T203155Z
LAST-MODIFIED:20191026T203155Z
UID:5879-1575993600-1575997200@twp.jamestown.mi.us
SUMMARY:Assessor's December Board of Review
DESCRIPTION:
URL:https://twp.jamestown.mi.us/event/assessors-december-board-of-review/
LOCATION:Jamestown Charter Township Hall\, 2380 Riley Street\, Hudsonville\, MI\, 49426\, United States
END:VEVENT
BEGIN:VEVENT
DTSTART;TZID=America/New_York:20191216T174500
DTEND;TZID=America/New_York:20191216T184500
DTSTAMP:20260424T113056
CREATED:20190312T143006Z
LAST-MODIFIED:20191217T154435Z
UID:5133-1576518300-1576521900@twp.jamestown.mi.us
SUMMARY:Fire Board Meeting - CANCELLED
DESCRIPTION:
URL:https://twp.jamestown.mi.us/event/fire-board-meeting-24/
LOCATION:Jamestown Charter Township Hall\, 2380 Riley Street\, Hudsonville\, MI\, 49426\, United States
END:VEVENT
BEGIN:VEVENT
DTSTART;TZID=America/New_York:20191216T190000
DTEND;TZID=America/New_York:20191216T210000
DTSTAMP:20260424T113056
CREATED:20181218T170457Z
LAST-MODIFIED:20181218T170457Z
UID:4572-1576522800-1576530000@twp.jamestown.mi.us
SUMMARY:Township Board Meeting
DESCRIPTION:
URL:https://twp.jamestown.mi.us/event/township-board-meeting-30/
LOCATION:Jamestown Charter Township Hall\, 2380 Riley Street\, Hudsonville\, MI\, 49426\, United States
ORGANIZER;CN="Ken Bergwerff":MAILTO:kbergwerff@twp.jamestown.mi.us
END:VEVENT
BEGIN:VEVENT
DTSTART;TZID=America/New_York:20191217T190000
DTEND;TZID=America/New_York:20191217T210000
DTSTAMP:20260424T113056
CREATED:20190103T154136Z
LAST-MODIFIED:20191125T153218Z
UID:4683-1576609200-1576616400@twp.jamestown.mi.us
SUMMARY:Planning Commission Meeting is CANCELLED
DESCRIPTION:
URL:https://twp.jamestown.mi.us/event/planning-commission-meeting-31/
LOCATION:Jamestown Charter Township Hall\, 2380 Riley Street\, Hudsonville\, MI\, 49426\, United States
END:VEVENT
BEGIN:VEVENT
DTSTART;TZID=America/New_York:20191219T190000
DTEND;TZID=America/New_York:20191219T210000
DTSTAMP:20260424T113056
CREATED:20190801T142918Z
LAST-MODIFIED:20190801T142918Z
UID:5638-1576782000-1576789200@twp.jamestown.mi.us
SUMMARY:Park Planning Committee
DESCRIPTION:
URL:https://twp.jamestown.mi.us/event/park-planning-committee-6/
LOCATION:Jamestown Charter Township Hall\, 2380 Riley Street\, Hudsonville\, MI\, 49426\, United States
END:VEVENT
BEGIN:VEVENT
DTSTART;TZID=America/New_York:20191224T090000
DTEND;TZID=America/New_York:20191224T120000
DTSTAMP:20260424T113056
CREATED:20190103T145916Z
LAST-MODIFIED:20190103T150216Z
UID:4631-1577178000-1577188800@twp.jamestown.mi.us
SUMMARY:Christmas Eve - Township Office Closes at Noon
DESCRIPTION:The township office will be open from 9:00 AM to 12:00 PM (Noon) on Christmas Eve\, Tuesday\, December 24\, 2019.
URL:https://twp.jamestown.mi.us/event/christmas-eve-township-office-closes-at-noon/
END:VEVENT
BEGIN:VEVENT
DTSTART;TZID=America/New_York:20191231T090000
DTEND;TZID=America/New_York:20191231T170000
DTSTAMP:20260424T113056
CREATED:20190103T150620Z
LAST-MODIFIED:20190103T151837Z
UID:4641-1577782800-1577811600@twp.jamestown.mi.us
SUMMARY:New Year's Eve - see detail for special holiday hours
DESCRIPTION:The Township Office will close at Noon on New Year’s Eve\, Tuesday\, December 31\, 2019; however\, the Treasurer’s Office will remain open to accept tax payments until 5:00 PM.
URL:https://twp.jamestown.mi.us/event/new-years-eve-see-detail-for-special-holiday-hours/
END:VEVENT
END:VCALENDAR