BEGIN:VCALENDAR
VERSION:2.0
PRODID:-//Jamestown Charter Township - ECPv6.15.18//NONSGML v1.0//EN
CALSCALE:GREGORIAN
METHOD:PUBLISH
X-ORIGINAL-URL:https://twp.jamestown.mi.us
X-WR-CALDESC:Events for Jamestown Charter Township
REFRESH-INTERVAL;VALUE=DURATION:PT1H
X-Robots-Tag:noindex
X-PUBLISHED-TTL:PT1H
BEGIN:VTIMEZONE
TZID:America/New_York
BEGIN:DAYLIGHT
TZOFFSETFROM:-0500
TZOFFSETTO:-0400
TZNAME:EDT
DTSTART:20180311T070000
END:DAYLIGHT
BEGIN:STANDARD
TZOFFSETFROM:-0400
TZOFFSETTO:-0500
TZNAME:EST
DTSTART:20181104T060000
END:STANDARD
BEGIN:DAYLIGHT
TZOFFSETFROM:-0500
TZOFFSETTO:-0400
TZNAME:EDT
DTSTART:20190310T070000
END:DAYLIGHT
BEGIN:STANDARD
TZOFFSETFROM:-0400
TZOFFSETTO:-0500
TZNAME:EST
DTSTART:20191103T060000
END:STANDARD
BEGIN:DAYLIGHT
TZOFFSETFROM:-0500
TZOFFSETTO:-0400
TZNAME:EDT
DTSTART:20200308T070000
END:DAYLIGHT
BEGIN:STANDARD
TZOFFSETFROM:-0400
TZOFFSETTO:-0500
TZNAME:EST
DTSTART:20201101T060000
END:STANDARD
END:VTIMEZONE
BEGIN:VEVENT
DTSTART;TZID=America/New_York:20190902T090000
DTEND;TZID=America/New_York:20190902T170000
DTSTAMP:20260424T161705
CREATED:20190103T145539Z
LAST-MODIFIED:20190103T145539Z
UID:4625-1567414800-1567443600@twp.jamestown.mi.us
SUMMARY:Labor Day - Township Office Closed
DESCRIPTION:
URL:https://twp.jamestown.mi.us/event/labor-day-township-office-closed/
END:VEVENT
BEGIN:VEVENT
DTSTART;TZID=America/New_York:20190903T180000
DTEND;TZID=America/New_York:20190903T200000
DTSTAMP:20260424T161705
CREATED:20190903T134208Z
LAST-MODIFIED:20190903T134208Z
UID:5747-1567533600-1567540800@twp.jamestown.mi.us
SUMMARY:Zoning Board of Appeals Meeting
DESCRIPTION:This is for the purpose of considering the following application:  \n•	A request from Calvin Klooster 988 20th Avenue for a variance at 1476 Adams Street\, Parcel #70-18-35-100-010 to create a parcel with one (1) acre of land in the AR zoning instead of the required two (2) acres minimum.
URL:https://twp.jamestown.mi.us/event/zoning-board-of-appeals-meeting-3/
LOCATION:Jamestown Charter Township Hall\, 2380 Riley Street\, Hudsonville\, MI\, 49426\, United States
ORGANIZER;CN="Kirk Scharphorn%2C Zoning Administrator":MAILTO:kscharphornjr@pcimi.com
END:VEVENT
BEGIN:VEVENT
DTSTART;TZID=America/New_York:20190914T090000
DTEND;TZID=America/New_York:20190914T120000
DTSTAMP:20260424T161705
CREATED:20190213T200414Z
LAST-MODIFIED:20190213T200832Z
UID:4849-1568451600-1568462400@twp.jamestown.mi.us
SUMMARY:Special Hours – Treasurer’s Office
DESCRIPTION:The Treasurer’s Office will remain open to accept tax payments from 9:00 am until noon.
URL:https://twp.jamestown.mi.us/event/special-hours-treasurers-office-3/
END:VEVENT
BEGIN:VEVENT
DTSTART;TZID=America/New_York:20190916T170000
DTEND;TZID=America/New_York:20190916T170000
DTSTAMP:20260424T161705
CREATED:20190213T200554Z
LAST-MODIFIED:20190213T200554Z
UID:4852-1568653200-1568653200@twp.jamestown.mi.us
SUMMARY:Summer Taxes Due
DESCRIPTION:
URL:https://twp.jamestown.mi.us/event/summer-taxes-due/
END:VEVENT
BEGIN:VEVENT
DTSTART;TZID=America/New_York:20190916T174500
DTEND;TZID=America/New_York:20190916T184500
DTSTAMP:20260424T161705
CREATED:20190312T142709Z
LAST-MODIFIED:20190702T183706Z
UID:5124-1568655900-1568659500@twp.jamestown.mi.us
SUMMARY:Fire Board Meeting
DESCRIPTION:
URL:https://twp.jamestown.mi.us/event/fire-board-meeting-21/
LOCATION:Jamestown Charter Township Hall\, 2380 Riley Street\, Hudsonville\, MI\, 49426\, United States
END:VEVENT
BEGIN:VEVENT
DTSTART;TZID=America/New_York:20190916T190000
DTEND;TZID=America/New_York:20190916T210000
DTSTAMP:20260424T161705
CREATED:20181218T170209Z
LAST-MODIFIED:20181218T170209Z
UID:4563-1568660400-1568667600@twp.jamestown.mi.us
SUMMARY:Township Board Meeting
DESCRIPTION:
URL:https://twp.jamestown.mi.us/event/township-board-meeting-27/
LOCATION:Jamestown Charter Township Hall\, 2380 Riley Street\, Hudsonville\, MI\, 49426\, United States
ORGANIZER;CN="Ken Bergwerff":MAILTO:kbergwerff@twp.jamestown.mi.us
END:VEVENT
BEGIN:VEVENT
DTSTART;TZID=America/New_York:20190917T190000
DTEND;TZID=America/New_York:20190917T210000
DTSTAMP:20260424T161705
CREATED:20190103T153915Z
LAST-MODIFIED:20190906T191541Z
UID:4674-1568746800-1568754000@twp.jamestown.mi.us
SUMMARY:Planning Commission Meeting
DESCRIPTION:The purpose of our meeting is to hear and consider the following:\n\n•	Spring Grove Farms\, Phase 5 – Tentative Preliminary Plat \n•	2019 Draft Jamestown Charter Township Master Plan  \n•	Street Tree Planting Deadline
URL:https://twp.jamestown.mi.us/event/planning-commission-meeting-28/
LOCATION:Jamestown Charter Township Hall\, 2380 Riley Street\, Hudsonville\, MI\, 49426\, United States
END:VEVENT
BEGIN:VEVENT
DTSTART;TZID=America/New_York:20190919T190000
DTEND;TZID=America/New_York:20190919T210000
DTSTAMP:20260424T161705
CREATED:20190801T142650Z
LAST-MODIFIED:20190801T142650Z
UID:5629-1568919600-1568926800@twp.jamestown.mi.us
SUMMARY:Park Planning Committee
DESCRIPTION:
URL:https://twp.jamestown.mi.us/event/park-planning-committee-3/
LOCATION:Jamestown Charter Township Hall\, 2380 Riley Street\, Hudsonville\, MI\, 49426\, United States
END:VEVENT
END:VCALENDAR