BEGIN:VCALENDAR
VERSION:2.0
PRODID:-//Jamestown Charter Township - ECPv6.15.18//NONSGML v1.0//EN
CALSCALE:GREGORIAN
METHOD:PUBLISH
X-WR-CALNAME:Jamestown Charter Township
X-ORIGINAL-URL:https://twp.jamestown.mi.us
X-WR-CALDESC:Events for Jamestown Charter Township
REFRESH-INTERVAL;VALUE=DURATION:PT1H
X-Robots-Tag:noindex
X-PUBLISHED-TTL:PT1H
BEGIN:VTIMEZONE
TZID:America/New_York
BEGIN:DAYLIGHT
TZOFFSETFROM:-0500
TZOFFSETTO:-0400
TZNAME:EDT
DTSTART:20180311T070000
END:DAYLIGHT
BEGIN:STANDARD
TZOFFSETFROM:-0400
TZOFFSETTO:-0500
TZNAME:EST
DTSTART:20181104T060000
END:STANDARD
BEGIN:DAYLIGHT
TZOFFSETFROM:-0500
TZOFFSETTO:-0400
TZNAME:EDT
DTSTART:20190310T070000
END:DAYLIGHT
BEGIN:STANDARD
TZOFFSETFROM:-0400
TZOFFSETTO:-0500
TZNAME:EST
DTSTART:20191103T060000
END:STANDARD
BEGIN:DAYLIGHT
TZOFFSETFROM:-0500
TZOFFSETTO:-0400
TZNAME:EDT
DTSTART:20200308T070000
END:DAYLIGHT
BEGIN:STANDARD
TZOFFSETFROM:-0400
TZOFFSETTO:-0500
TZNAME:EST
DTSTART:20201101T060000
END:STANDARD
END:VTIMEZONE
BEGIN:VEVENT
DTSTART;TZID=America/New_York:20190701T190000
DTEND;TZID=America/New_York:20190701T210000
DTSTAMP:20260424T190919
CREATED:20190629T140407Z
LAST-MODIFIED:20190629T140407Z
UID:5512-1562007600-1562014800@twp.jamestown.mi.us
SUMMARY:Fire Board Meeting
DESCRIPTION:
URL:https://twp.jamestown.mi.us/event/fire-board-meeting-25/
LOCATION:Jamestown Charter Township Hall\, 2380 Riley Street\, Hudsonville\, MI\, 49426\, United States
END:VEVENT
BEGIN:VEVENT
DTSTART;TZID=America/New_York:20190704T090000
DTEND;TZID=America/New_York:20190704T170000
DTSTAMP:20260424T190919
CREATED:20190103T145458Z
LAST-MODIFIED:20190103T145458Z
UID:4622-1562230800-1562259600@twp.jamestown.mi.us
SUMMARY:Independence Day - Township Office Closed
DESCRIPTION:
URL:https://twp.jamestown.mi.us/event/independence-day-township-office-closed/
END:VEVENT
BEGIN:VEVENT
DTSTART;TZID=America/New_York:20190715T174500
DTEND;TZID=America/New_York:20190715T184500
DTSTAMP:20260424T190919
CREATED:20190312T142521Z
LAST-MODIFIED:20190711T180804Z
UID:5118-1563212700-1563216300@twp.jamestown.mi.us
SUMMARY:Fire Board Meeting is CANCELLED
DESCRIPTION:
URL:https://twp.jamestown.mi.us/event/fire-board-meeting-19/
LOCATION:Jamestown Charter Township Hall\, 2380 Riley Street\, Hudsonville\, MI\, 49426\, United States
END:VEVENT
BEGIN:VEVENT
DTSTART;TZID=America/New_York:20190715T190000
DTEND;TZID=America/New_York:20190715T210000
DTSTAMP:20260424T190919
CREATED:20181218T170015Z
LAST-MODIFIED:20181218T170015Z
UID:4557-1563217200-1563224400@twp.jamestown.mi.us
SUMMARY:Township Board Meeting
DESCRIPTION:
URL:https://twp.jamestown.mi.us/event/township-board-meeting-25/
LOCATION:Jamestown Charter Township Hall\, 2380 Riley Street\, Hudsonville\, MI\, 49426\, United States
ORGANIZER;CN="Ken Bergwerff":MAILTO:kbergwerff@twp.jamestown.mi.us
END:VEVENT
BEGIN:VEVENT
DTSTART;TZID=America/New_York:20190716T160000
DTEND;TZID=America/New_York:20190716T170000
DTSTAMP:20260424T190919
CREATED:20190611T134537Z
LAST-MODIFIED:20191126T145517Z
UID:5469-1563292800-1563296400@twp.jamestown.mi.us
SUMMARY:Assessor’s July Board of Review
DESCRIPTION:
URL:https://twp.jamestown.mi.us/event/assessors-july-board-of-review/
LOCATION:Jamestown Charter Township Hall\, 2380 Riley Street\, Hudsonville\, MI\, 49426\, United States
END:VEVENT
BEGIN:VEVENT
DTSTART;TZID=America/New_York:20190716T190000
DTEND;TZID=America/New_York:20190716T210000
DTSTAMP:20260424T190919
CREATED:20190103T153542Z
LAST-MODIFIED:20190103T153542Z
UID:4668-1563303600-1563310800@twp.jamestown.mi.us
SUMMARY:Planning Commission Meeting
DESCRIPTION:
URL:https://twp.jamestown.mi.us/event/planning-commission-meeting-26/
LOCATION:Jamestown Charter Township Hall\, 2380 Riley Street\, Hudsonville\, MI\, 49426\, United States
END:VEVENT
BEGIN:VEVENT
DTSTART;TZID=America/New_York:20190718T190000
DTEND;TZID=America/New_York:20190718T210000
DTSTAMP:20260424T190919
CREATED:20190624T152732Z
LAST-MODIFIED:20190624T152732Z
UID:5500-1563476400-1563483600@twp.jamestown.mi.us
SUMMARY:Park Planning Committee
DESCRIPTION:
URL:https://twp.jamestown.mi.us/event/park-planning-committee/
LOCATION:Jamestown Charter Township Hall\, 2380 Riley Street\, Hudsonville\, MI\, 49426\, United States
END:VEVENT
END:VCALENDAR