BEGIN:VCALENDAR
VERSION:2.0
PRODID:-//Jamestown Charter Township - ECPv6.15.18//NONSGML v1.0//EN
CALSCALE:GREGORIAN
METHOD:PUBLISH
X-ORIGINAL-URL:https://twp.jamestown.mi.us
X-WR-CALDESC:Events for Jamestown Charter Township
REFRESH-INTERVAL;VALUE=DURATION:PT1H
X-Robots-Tag:noindex
X-PUBLISHED-TTL:PT1H
BEGIN:VTIMEZONE
TZID:America/New_York
BEGIN:DAYLIGHT
TZOFFSETFROM:-0500
TZOFFSETTO:-0400
TZNAME:EDT
DTSTART:20180311T070000
END:DAYLIGHT
BEGIN:STANDARD
TZOFFSETFROM:-0400
TZOFFSETTO:-0500
TZNAME:EST
DTSTART:20181104T060000
END:STANDARD
BEGIN:DAYLIGHT
TZOFFSETFROM:-0500
TZOFFSETTO:-0400
TZNAME:EDT
DTSTART:20190310T070000
END:DAYLIGHT
BEGIN:STANDARD
TZOFFSETFROM:-0400
TZOFFSETTO:-0500
TZNAME:EST
DTSTART:20191103T060000
END:STANDARD
BEGIN:DAYLIGHT
TZOFFSETFROM:-0500
TZOFFSETTO:-0400
TZNAME:EDT
DTSTART:20200308T070000
END:DAYLIGHT
BEGIN:STANDARD
TZOFFSETFROM:-0400
TZOFFSETTO:-0500
TZNAME:EST
DTSTART:20201101T060000
END:STANDARD
END:VTIMEZONE
BEGIN:VEVENT
DTSTART;TZID=America/New_York:20190604T190000
DTEND;TZID=America/New_York:20190604T210000
DTSTAMP:20260424T204504
CREATED:20190523T210736Z
LAST-MODIFIED:20190523T210736Z
UID:5406-1559674800-1559682000@twp.jamestown.mi.us
SUMMARY:Special Township Board Meeting
DESCRIPTION:CHARTER TOWNSHIP OF JAMESTOWN\nCOUNTY OF OTTAWA\, MICHIGAN\nPUBLIC NOTICE IS HEREBY GIVEN that the Township Board of the Charter Township of Jamestown (the “Township”) will hold a special meeting of the Township Board on Tuesday\, June 4\, 2019\, at 7:00 p.m.\, local time\, at the Jamestown Township Hall\, located at 2380 Riley St.\, within the Township\, regarding the use\, development and possible sale of all or some of the Township-owned real property commonly known as 3801 24th Avenue\, 3765 24th Avenue\, and 2783 Greenly Street\, and\, if necessary\, to meet in closed session with the Township Attorney to consider material exempt from disclosure under Michigan’s Freedom of Information Act.  The Township Board may make decisions with respect to the all or some of the property at the special meeting.\nAll interested persons may attend the special meeting.  Proposed minutes of the special meeting of the Township Board will be available for public inspection not more than eight business days after the special meeting.  Approved minutes of the Township Board meeting will be available for public inspection at the Township Hall not later than five business days after the meeting at which the minutes are approved by the Township Board.\nThe address of the Jamestown Charter Township Hall\, at which the meeting will be held\, is 2380 Riley St.\, Hudsonville\, MI 49426.  The telephone number of the Jamestown Charter Township Hall is (616) 896-8376.\nThis Open Meetings Act notice was posted at the Jamestown Charter Township Hall on May 23\, 2019\, at 5 p.m.  This notice was posted on the Township’s website (www. www.twp.jamestown.mi.us) on May 23\, 2019\, at 5 p.m. \nDated:  May 23\, 2019				TOWNSHIP BOARD OF THE\n						CHARTER TOWNSHIP OF JAMESTOWN
URL:https://twp.jamestown.mi.us/event/special-township-board-meeting-4/
LOCATION:Jamestown Charter Township Hall\, 2380 Riley Street\, Hudsonville\, MI\, 49426\, United States
END:VEVENT
BEGIN:VEVENT
DTSTART;TZID=America/New_York:20190613T190000
DTEND;TZID=America/New_York:20190613T210000
DTSTAMP:20260424T204504
CREATED:20190610T152137Z
LAST-MODIFIED:20190610T152215Z
UID:5453-1560452400-1560459600@twp.jamestown.mi.us
SUMMARY:Special Planning Commission Meeting
DESCRIPTION:The purpose of the meeting is to hear and consider the following:\n– Master Plan Chapter Set #2
URL:https://twp.jamestown.mi.us/event/special-planning-commission-meeting/
LOCATION:Jamestown Charter Township Hall\, 2380 Riley Street\, Hudsonville\, MI\, 49426\, United States
END:VEVENT
BEGIN:VEVENT
DTSTART;TZID=America/New_York:20190617T180000
DTEND;TZID=America/New_York:20190617T184500
DTSTAMP:20260424T204504
CREATED:20190312T142431Z
LAST-MODIFIED:20190312T142431Z
UID:5115-1560794400-1560797100@twp.jamestown.mi.us
SUMMARY:Fire Board Meeting
DESCRIPTION:
URL:https://twp.jamestown.mi.us/event/fire-board-meeting-18/
LOCATION:Jamestown Charter Township Hall\, 2380 Riley Street\, Hudsonville\, MI\, 49426\, United States
END:VEVENT
BEGIN:VEVENT
DTSTART;TZID=America/New_York:20190617T183000
DTEND;TZID=America/New_York:20190617T210000
DTSTAMP:20260424T204504
CREATED:20181218T165825Z
LAST-MODIFIED:20190604T163455Z
UID:4554-1560796200-1560805200@twp.jamestown.mi.us
SUMMARY:Work Session for Ottawa County Road Commission & Township Board\, followed by regular Township Board Meeting
DESCRIPTION:NOTICE OF A PUBLIC HEARING \nJAMESTOWN CHARTER TOWNSHIP BOARD OF TRUSTEES \nTO:	CITIZENS AND RESIDENTS OF THE CHARTER TOWNSHIP OF JAMESTOWN\, OTTAWA COUNTY\, MICHIGAN. \nPLEASE TAKE NOTICE that on Monday\, June 17\, 2019\, at 7:00 p.m.\, local time\, a public hearing will be held by the Board of Trustees of the Charter Township of Jamestown\, Ottawa County\, Michigan\, at the Jamestown Charter Township Hall\, 2380 Riley Street\, Hudsonville\, Michigan\, 49426\, to hear and consider the Final Development Plan for 24 West Planned Development. \nSection 1 \nThe proposed Final Development Plan seeks to establish 24 duplex family residential units\, open space\, storm water detention\, private drives\, and related infrastructure. The property is located on the south side of Quincy Street west of 24th Avenue\, at approximately 2550 Quincy Street and is legally described as follows: \nPART OF NE 1/4 COM S 89D 46M 30S W 1040 FT FROM NE SEC COR\, TH S 0D 01M 06S E 1065.1 FT\, S 89D 53M 05S W 620.79 FT ALG S LI OF N 2/5 OF SD NE 1/4\, TH N 0D 01M 57S E 489.9 FT ALG W LI OF E 5/8 OF NE 1/4\, TH N 89D 46M 30S E 275 FT\, N 0D 01M 57S E 574 FT\, TH N 89D 46M 30S E 344.85 FT TO BEG. SEC 9 T5N R13W 11.54A.  70-18-09-200-027 \nSection 2 \nAny person interested in this matter may appear at such hearing in person or by agent or attorney. The tentative Final Development Plan may be examined by any person at the Jamestown Township Hall. Written comments concerning this matter may be filed prior to the hearing with the Jamestown Charter Township Clerk\, Jamestown Charter Township Hall\, 2380 Riley Street\, Hudsonville\, Michigan\, 49426\, (Phone 616-896-8376)\, between 9:00 a.m. and 5:00 p.m.\, Monday\, Tuesday and Thursday. \nIndividuals with disabilities requiring auxiliary aids or services should contact the Township Office five (5) days prior to the hearing.  \nDated: June 2\, 2019\nCandy DeHaan\, Clerk Jamestown Charter Township
URL:https://twp.jamestown.mi.us/event/township-board-meeting-24/
LOCATION:Jamestown Charter Township Hall\, 2380 Riley Street\, Hudsonville\, MI\, 49426\, United States
ORGANIZER;CN="Ken Bergwerff":MAILTO:kbergwerff@twp.jamestown.mi.us
END:VEVENT
BEGIN:VEVENT
DTSTART;TZID=America/New_York:20190618T190000
DTEND;TZID=America/New_York:20190618T210000
DTSTAMP:20260424T204504
CREATED:20190103T152714Z
LAST-MODIFIED:20190611T153607Z
UID:4665-1560884400-1560891600@twp.jamestown.mi.us
SUMMARY:Planning Commission Meeting
DESCRIPTION:NOTICE OF A PUBLIC HEARING \nJAMESTOWN CHARTER TOWNSHIP PLANNING COMMISSION \nTO: CITIZENS AND RESIDENTS OF THE CHARTER TOWNSHIP OF JAMESTOWN\, OTTAWA COUNTY\, MICHIGAN. \nPLEASE TAKE NOTICE that on Tuesday\, June 18\, 2019\, at 7:00 p.m.\, local time\, a public hearing will be held by the Planning Commission of the Charter Township of Jamestown\, Ottawa County\, Michigan\, at the Jamestown Charter Township Hall\, 2380 Riley Street\, Jamestown\, Michigan\, 49427\, to hear and consider a rezoning request to the Zoning Ordinance Map of the Charter Township of Jamestown\, and a text amendment change to Section 9.3D – Special Uses and Section 10.3I – Special Uses – of the Zoning Ordinance Text of the Charter Township of Jamestown. \nSection 1 \nThe map amendment (rezoning) proposes to change those portions of land located in the Charter Township of Jamestown that are described and currently zoned as R-1 Residential Zoning District to the C-2 General Commercial Zoning District. The two (2) properties are located on the east side of 32nd Avenue\, south of Greenly Street at 3388 32nd Avenue and 3410 32nd Avenue. The legal descriptions and parcel numbers of the properties are as follows: \nS 10 A OF N 30 A OF W 5/8 OF W 1/2 OF SW 1/4\, EXC S 132 FT\, ALSO EXC W 50 FT FOR RD R/W. SEC 9 T5N R13W 70-18-09-300-029 – 3388 32nd Avenue; AND \nS 10 A OF N 20 A OF W 5/8 OF W ½ OF SW ¼ EXC W 50 FT\, ALSO EXC N 160 FT SEC 9 T5N R 13S 70-18-09-300-022 – 3410 32nd Avenue \nSection 2 \nSection 9.3D – Special Uses of the Jamestown Charter Township Zoning Ordinance is proposed to be amended in its entirety as follows: \nD. (Reserved for future use)\nSection 3 \nSection 10.3I – Special Uses of the Jamestown Charter Township Zoning Ordinance is proposed to be amended in its entirety as follows: \nI. Three to four unit dwelling in compliance with minimum standards for lot size\nSection 4 \nAny person interested in these matters may appear at such hearing in person or by agent or attorney. The map amendment application and text of the proposed amendments to the Jamestown Charter Township Zoning Ordinance may be examined by any person at the Jamestown Charter Township Hall. Written comments concerning these matters may be filed prior to the hearing with the Jamestown Charter Township Clerk\, Jamestown Charter Township Hall\, 2380 Riley Street\, Hudsonville\, Michigan\, 49426\, (Phone 616-896-8376)\, between 9:00 a.m. and 5:00 p.m.\, Monday\, Tuesday and Thursday. \nIndividuals with disabilities requiring auxiliary aids or services should contact the Township Office five (5) days prior to the hearing. \nDated: June 2\, 2019 \nCandy DeHaan\, Clerk Jamestown Charter Township \nThe purpose of our meeting is to hear and consider the following: \n•	Map Amendment (Rezoning): Knobloch/Burns – seeking to rezone from R-1 to C-2\n•	Text Amendments: Section 9.3D & Section 10.3I – Special Uses\n• 	Site Plan: Jamestown Square – 3686 32nd Avenue – 70-18-09-100-068 seeking 11\,375 square foot multi-tenant building
URL:https://twp.jamestown.mi.us/event/planning-commission-meeting-25/
LOCATION:Jamestown Charter Township Hall\, 2380 Riley Street\, Hudsonville\, MI\, 49426\, United States
END:VEVENT
END:VCALENDAR