BEGIN:VCALENDAR
VERSION:2.0
PRODID:-//Jamestown Charter Township - ECPv6.15.18//NONSGML v1.0//EN
CALSCALE:GREGORIAN
METHOD:PUBLISH
X-ORIGINAL-URL:https://twp.jamestown.mi.us
X-WR-CALDESC:Events for Jamestown Charter Township
REFRESH-INTERVAL;VALUE=DURATION:PT1H
X-Robots-Tag:noindex
X-PUBLISHED-TTL:PT1H
BEGIN:VTIMEZONE
TZID:America/New_York
BEGIN:DAYLIGHT
TZOFFSETFROM:-0500
TZOFFSETTO:-0400
TZNAME:EDT
DTSTART:20180311T070000
END:DAYLIGHT
BEGIN:STANDARD
TZOFFSETFROM:-0400
TZOFFSETTO:-0500
TZNAME:EST
DTSTART:20181104T060000
END:STANDARD
BEGIN:DAYLIGHT
TZOFFSETFROM:-0500
TZOFFSETTO:-0400
TZNAME:EDT
DTSTART:20190310T070000
END:DAYLIGHT
BEGIN:STANDARD
TZOFFSETFROM:-0400
TZOFFSETTO:-0500
TZNAME:EST
DTSTART:20191103T060000
END:STANDARD
BEGIN:DAYLIGHT
TZOFFSETFROM:-0500
TZOFFSETTO:-0400
TZNAME:EDT
DTSTART:20200308T070000
END:DAYLIGHT
BEGIN:STANDARD
TZOFFSETFROM:-0400
TZOFFSETTO:-0500
TZNAME:EST
DTSTART:20201101T060000
END:STANDARD
END:VTIMEZONE
BEGIN:VEVENT
DTSTART;TZID=America/New_York:20190504T090000
DTEND;TZID=America/New_York:20190504T170000
DTSTAMP:20260424T222110
CREATED:20190211T191538Z
LAST-MODIFIED:20190504T142640Z
UID:4830-1556960400-1556989200@twp.jamestown.mi.us
SUMMARY:Special Hours - Clerk's Office
DESCRIPTION:The Clerk’s Office will be open from 9:00 am to 5:00 pm on Saturday\, May 4\, 2019 (the Saturday prior to Election Day) to issue and/or receive absentee ballots and register new voters for the Tuesday\, May 7\, 2019 Special School Election.
URL:https://twp.jamestown.mi.us/event/special-hours-clerks-office-2/
LOCATION:Jamestown Charter Township Hall\, 2380 Riley Street\, Hudsonville\, MI\, 49426\, United States
ORGANIZER;CN="Candy DeHaan%2C Twp Clerk":MAILTO:cdehaan@twp.jamestown.mi.us
END:VEVENT
BEGIN:VEVENT
DTSTART;TZID=America/New_York:20190507T070000
DTEND;TZID=America/New_York:20190507T200000
DTSTAMP:20260424T222110
CREATED:20190114T143816Z
LAST-MODIFIED:20190211T190956Z
UID:4758-1557212400-1557259200@twp.jamestown.mi.us
SUMMARY:Special School Election
DESCRIPTION:
URL:https://twp.jamestown.mi.us/event/special-election/
ORGANIZER;CN="Candy DeHaan%2C Twp Clerk":MAILTO:cdehaan@twp.jamestown.mi.us
END:VEVENT
BEGIN:VEVENT
DTSTART;TZID=America/New_York:20190513T180000
DTEND;TZID=America/New_York:20190513T184500
DTSTAMP:20260424T222110
CREATED:20190312T142330Z
LAST-MODIFIED:20190312T142347Z
UID:5112-1557770400-1557773100@twp.jamestown.mi.us
SUMMARY:Fire Board Meeting
DESCRIPTION:
URL:https://twp.jamestown.mi.us/event/fire-board-meeting-17/
LOCATION:Jamestown Charter Township Hall\, 2380 Riley Street\, Hudsonville\, MI\, 49426\, United States
END:VEVENT
BEGIN:VEVENT
DTSTART;TZID=America/New_York:20190513T190000
DTEND;TZID=America/New_York:20190513T210000
DTSTAMP:20260424T222110
CREATED:20181218T165707Z
LAST-MODIFIED:20181218T165707Z
UID:4551-1557774000-1557781200@twp.jamestown.mi.us
SUMMARY:Township Board Meeting
DESCRIPTION:
URL:https://twp.jamestown.mi.us/event/township-board-meeting-23/
LOCATION:Jamestown Charter Township Hall\, 2380 Riley Street\, Hudsonville\, MI\, 49426\, United States
ORGANIZER;CN="Ken Bergwerff":MAILTO:kbergwerff@twp.jamestown.mi.us
END:VEVENT
BEGIN:VEVENT
DTSTART;TZID=America/New_York:20190514T180000
DTEND;TZID=America/New_York:20190514T200000
DTSTAMP:20260424T222110
CREATED:20190419T170029Z
LAST-MODIFIED:20190708T144559Z
UID:5308-1557856800-1557864000@twp.jamestown.mi.us
SUMMARY:Zoning Board of Appeals Meeting
DESCRIPTION:This Zoning Board of Appeals Meeting is for the purpose of considering the following applications: \n\nA request from Royal Technologies of 3590 Quincy Street also known as permanent parcel 70-18-08-200-037\, for a variance on Wall Sign Square footage for placement of a 296 square foot wall sign where a maximum size of 139 square foot is permitted by Township Ordinance. This variance would provide relief from Section 24.15 B. of the Jamestown Charter Township Zoning Ordinance.\nA request from Pamela Nickels of 83 Perry Street also known as permanent parcel 70-18-24-400-009\, for a variance to construct an attached garage eighteen (18) feet from the rear property line instead of the required minimum of seventy- five (75) feet. This variance would provide relief from Section 6.4 A 4 of the Jamestown Charter Township Zoning Ordinance.
URL:https://twp.jamestown.mi.us/event/zba-meeting-4/
LOCATION:Jamestown Charter Township Hall\, 2380 Riley Street\, Hudsonville\, MI\, 49426\, United States
END:VEVENT
BEGIN:VEVENT
DTSTART;TZID=America/New_York:20190521T190000
DTEND;TZID=America/New_York:20190521T210000
DTSTAMP:20260424T222110
CREATED:20190103T152554Z
LAST-MODIFIED:20190103T152554Z
UID:4662-1558465200-1558472400@twp.jamestown.mi.us
SUMMARY:Planning Commission Meeting
DESCRIPTION:
URL:https://twp.jamestown.mi.us/event/planning-commission-meeting-24/
LOCATION:Jamestown Charter Township Hall\, 2380 Riley Street\, Hudsonville\, MI\, 49426\, United States
END:VEVENT
BEGIN:VEVENT
DTSTART;TZID=America/New_York:20190527T090000
DTEND;TZID=America/New_York:20190527T170000
DTSTAMP:20260424T222110
CREATED:20190103T145417Z
LAST-MODIFIED:20190103T145417Z
UID:4619-1558947600-1558976400@twp.jamestown.mi.us
SUMMARY:Memorial Day - Township Office Closed
DESCRIPTION:
URL:https://twp.jamestown.mi.us/event/memorial-day-township-office-closed/
END:VEVENT
BEGIN:VEVENT
DTSTART;TZID=America/New_York:20190530T143000
DTEND;TZID=America/New_York:20190530T163000
DTSTAMP:20260424T222110
CREATED:20190523T213558Z
LAST-MODIFIED:20190523T213558Z
UID:5414-1559226600-1559233800@twp.jamestown.mi.us
SUMMARY:Site Plan Review Committee Meeting
DESCRIPTION:Site Improvement Plan: Jamestown Square Site Plan
URL:https://twp.jamestown.mi.us/event/site-plan-review-committee-meeting-4/
LOCATION:Jamestown Charter Township Hall\, 2380 Riley Street\, Hudsonville\, MI\, 49426\, United States
END:VEVENT
END:VCALENDAR