BEGIN:VCALENDAR
VERSION:2.0
PRODID:-//Jamestown Charter Township - ECPv6.15.18//NONSGML v1.0//EN
CALSCALE:GREGORIAN
METHOD:PUBLISH
X-WR-CALNAME:Jamestown Charter Township
X-ORIGINAL-URL:https://twp.jamestown.mi.us
X-WR-CALDESC:Events for Jamestown Charter Township
REFRESH-INTERVAL;VALUE=DURATION:PT1H
X-Robots-Tag:noindex
X-PUBLISHED-TTL:PT1H
BEGIN:VTIMEZONE
TZID:America/New_York
BEGIN:DAYLIGHT
TZOFFSETFROM:-0500
TZOFFSETTO:-0400
TZNAME:EDT
DTSTART:20170312T070000
END:DAYLIGHT
BEGIN:STANDARD
TZOFFSETFROM:-0400
TZOFFSETTO:-0500
TZNAME:EST
DTSTART:20171105T060000
END:STANDARD
BEGIN:DAYLIGHT
TZOFFSETFROM:-0500
TZOFFSETTO:-0400
TZNAME:EDT
DTSTART:20180311T070000
END:DAYLIGHT
BEGIN:STANDARD
TZOFFSETFROM:-0400
TZOFFSETTO:-0500
TZNAME:EST
DTSTART:20181104T060000
END:STANDARD
BEGIN:DAYLIGHT
TZOFFSETFROM:-0500
TZOFFSETTO:-0400
TZNAME:EDT
DTSTART:20190310T070000
END:DAYLIGHT
BEGIN:STANDARD
TZOFFSETFROM:-0400
TZOFFSETTO:-0500
TZNAME:EST
DTSTART:20191103T060000
END:STANDARD
END:VTIMEZONE
BEGIN:VEVENT
DTSTART;VALUE=DATE:20180903
DTEND;VALUE=DATE:20180904
DTSTAMP:20260425T105613
CREATED:20180116T143745Z
LAST-MODIFIED:20180116T143745Z
UID:3307-1535932800-1536019199@twp.jamestown.mi.us
SUMMARY:Township Office Closed - Labor Day
DESCRIPTION:
URL:https://twp.jamestown.mi.us/event/township-office-closed-labor-day/
LOCATION:Jamestown Charter Township Hall\, 2380 Riley Street\, Hudsonville\, MI\, 49426\, United States
END:VEVENT
BEGIN:VEVENT
DTSTART;TZID=America/New_York:20180905T070000
DTEND;TZID=America/New_York:20180905T210000
DTSTAMP:20260425T105613
CREATED:20180830T133147Z
LAST-MODIFIED:20180830T133333Z
UID:4173-1536130800-1536181200@twp.jamestown.mi.us
SUMMARY:Planning Commission Special Meeting
DESCRIPTION:The purpose of this meeting is to hear and consider the following: \n\nJ&H Oil/Gas Station and Tim Horton’s
URL:https://twp.jamestown.mi.us/event/planning-commission-special-meeting-2/
LOCATION:Jamestown Charter Township Hall\, 2380 Riley Street\, Hudsonville\, MI\, 49426\, United States
END:VEVENT
BEGIN:VEVENT
DTSTART;TZID=America/New_York:20180917T174500
DTEND;TZID=America/New_York:20180917T184500
DTSTAMP:20260425T105613
CREATED:20180621T132252Z
LAST-MODIFIED:20180621T132252Z
UID:3958-1537206300-1537209900@twp.jamestown.mi.us
SUMMARY:Fire Board Meeting
DESCRIPTION:
URL:https://twp.jamestown.mi.us/event/fire-board-meeting-9/
LOCATION:Jamestown Charter Township Hall\, 2380 Riley Street\, Hudsonville\, MI\, 49426\, United States
END:VEVENT
BEGIN:VEVENT
DTSTART;TZID=America/New_York:20180917T190000
DTEND;TZID=America/New_York:20180917T210000
DTSTAMP:20260425T105613
CREATED:20171221T183607Z
LAST-MODIFIED:20171221T183607Z
UID:3169-1537210800-1537218000@twp.jamestown.mi.us
SUMMARY:Township Board Meeting
DESCRIPTION:
URL:https://twp.jamestown.mi.us/event/township-board-meeting-16/
LOCATION:Jamestown Charter Township Hall\, 2380 Riley Street\, Hudsonville\, MI\, 49426\, United States
END:VEVENT
BEGIN:VEVENT
DTSTART;TZID=America/New_York:20180918T190000
DTEND;TZID=America/New_York:20180918T210000
DTSTAMP:20260425T105613
CREATED:20171221T190247Z
LAST-MODIFIED:20171221T190247Z
UID:3217-1537297200-1537304400@twp.jamestown.mi.us
SUMMARY:Planning Commission Meeting
DESCRIPTION:
URL:https://twp.jamestown.mi.us/event/planning-commission-meeting-16/
LOCATION:Jamestown Charter Township Hall\, 2380 Riley Street\, Hudsonville\, MI\, 49426\, United States
END:VEVENT
BEGIN:VEVENT
DTSTART;TZID=America/New_York:20180920T180000
DTEND;TZID=America/New_York:20180920T200000
DTSTAMP:20260425T105613
CREATED:20180626T164549Z
LAST-MODIFIED:20180626T164649Z
UID:4020-1537466400-1537473600@twp.jamestown.mi.us
SUMMARY:Farms are the Tapas
DESCRIPTION:Farms are the Tapas supports farmland preservation in Ottawa County! \nFor more information and to purchase tickets:  www.miottawa.org/tapas \n \n 
URL:https://twp.jamestown.mi.us/event/farms-are-the-tapas-2/
LOCATION:Terra Square\, 3380 Chicago Drive\, Hudsonville\, MI\, 49426\, United States
GEO:42.8677383;-85.8654557
X-APPLE-STRUCTURED-LOCATION;VALUE=URI;X-ADDRESS=Terra Square 3380 Chicago Drive Hudsonville MI 49426 United States;X-APPLE-RADIUS=500;X-TITLE=3380 Chicago Drive:geo:-85.8654557,42.8677383
END:VEVENT
END:VCALENDAR