BEGIN:VCALENDAR
VERSION:2.0
PRODID:-//Jamestown Charter Township - ECPv6.15.18//NONSGML v1.0//EN
CALSCALE:GREGORIAN
METHOD:PUBLISH
X-WR-CALNAME:Jamestown Charter Township
X-ORIGINAL-URL:https://twp.jamestown.mi.us
X-WR-CALDESC:Events for Jamestown Charter Township
REFRESH-INTERVAL;VALUE=DURATION:PT1H
X-Robots-Tag:noindex
X-PUBLISHED-TTL:PT1H
BEGIN:VTIMEZONE
TZID:America/New_York
BEGIN:DAYLIGHT
TZOFFSETFROM:-0500
TZOFFSETTO:-0400
TZNAME:EDT
DTSTART:20170312T070000
END:DAYLIGHT
BEGIN:STANDARD
TZOFFSETFROM:-0400
TZOFFSETTO:-0500
TZNAME:EST
DTSTART:20171105T060000
END:STANDARD
BEGIN:DAYLIGHT
TZOFFSETFROM:-0500
TZOFFSETTO:-0400
TZNAME:EDT
DTSTART:20180311T070000
END:DAYLIGHT
BEGIN:STANDARD
TZOFFSETFROM:-0400
TZOFFSETTO:-0500
TZNAME:EST
DTSTART:20181104T060000
END:STANDARD
BEGIN:DAYLIGHT
TZOFFSETFROM:-0500
TZOFFSETTO:-0400
TZNAME:EDT
DTSTART:20190310T070000
END:DAYLIGHT
BEGIN:STANDARD
TZOFFSETFROM:-0400
TZOFFSETTO:-0500
TZNAME:EST
DTSTART:20191103T060000
END:STANDARD
END:VTIMEZONE
BEGIN:VEVENT
DTSTART;TZID=America/New_York:20180611T190000
DTEND;TZID=America/New_York:20180611T210000
DTSTAMP:20260425T155439
CREATED:20180607T192855Z
LAST-MODIFIED:20180611T141813Z
UID:3834-1528743600-1528750800@twp.jamestown.mi.us
SUMMARY:Special Meeting of the Township Board
DESCRIPTION:CHARTER TOWNSHIP OF JAMESTOWN \nCOUNTY OF OTTAWA\, MICHIGAN \nPUBLIC NOTICE IS HEREBY GIVEN that the Township Board of the Charter Township of Jamestown (the “Township”) will hold a special meeting of the Township Board on Monday\, June 11\, 2018\, at 7:00 p.m.\, local time\, at the Jamestown Township Hall\, located at 2380 Riley St.\, within the Township\, regarding the sale of real property located at 3240 24th Avenue and\, if necessary\, to meet in closed session with the Township Attorney to consider material exempt from disclosure under Michigan’s Freedom of Information Act. The Township Board may make decisions with respect to the property at the special meeting. \nAll interested persons may attend the special meeting. Proposed minutes of the special meeting of the Township Board will be available for public inspection not more than eight business days after the special meeting.  Approved minutes of the Township Board meeting will be available for public inspection at the Township Hall not later than five business days after the meeting at which the minutes are approved by the Township Board. \nThe address of the Jamestown Charter Township Hall\, at which the meeting will be held\, is 2380 Riley St.\, Hudsonville\, MI 49426. The telephone number of the Jamestown Charter Township Hall is (616) 896-8376. \n  \nThis Open Meetings Act notice was posted at the Jamestown Charter Township Hall on June 7\, 2018\, at 4:40 p.m. This notice was posted on the Township’s website (www.twp.jamestown.mi.us) on June 7\, 2018\, at 4:40 p.m. \nTOWNSHIP BOARD OF THE CHARTER TOWNSHIP OF JAMESTOWN \nDated: June 7\, 2018
URL:https://twp.jamestown.mi.us/event/special-township-board-meeting-2/
LOCATION:Jamestown Charter Township Hall\, 2380 Riley Street\, Hudsonville\, MI\, 49426\, United States
END:VEVENT
BEGIN:VEVENT
DTSTART;TZID=America/New_York:20180614T143000
DTEND;TZID=America/New_York:20180614T163000
DTSTAMP:20260425T155439
CREATED:20180611T132952Z
LAST-MODIFIED:20180611T133012Z
UID:3860-1528986600-1528993800@twp.jamestown.mi.us
SUMMARY:Site Plan Review Committee Meeting
DESCRIPTION:The purpose of this meeting is to review preliminary site plans for the Spring Grove Village Planned Development.
URL:https://twp.jamestown.mi.us/event/site-plan-review-committee-meeting/
LOCATION:Jamestown Charter Township Hall\, 2380 Riley Street\, Hudsonville\, MI\, 49426\, United States
END:VEVENT
BEGIN:VEVENT
DTSTART;TZID=America/New_York:20180614T180000
DTEND;TZID=America/New_York:20180614T200000
DTSTAMP:20260425T155439
CREATED:20180607T192336Z
LAST-MODIFIED:20180607T192336Z
UID:3831-1528999200-1529006400@twp.jamestown.mi.us
SUMMARY:Parks and Recreation Committee Meeting
DESCRIPTION:
URL:https://twp.jamestown.mi.us/event/parks-and-recreation-committee-meeting/
LOCATION:Jamestown Charter Township Hall\, 2380 Riley Street\, Hudsonville\, MI\, 49426\, United States
END:VEVENT
BEGIN:VEVENT
DTSTART;TZID=America/New_York:20180618T190000
DTEND;TZID=America/New_York:20180618T210000
DTSTAMP:20260425T155439
CREATED:20171221T183351Z
LAST-MODIFIED:20171221T183351Z
UID:3160-1529348400-1529355600@twp.jamestown.mi.us
SUMMARY:Township Board Meeting
DESCRIPTION:
URL:https://twp.jamestown.mi.us/event/township-board-meeting-13/
LOCATION:Jamestown Charter Township Hall\, 2380 Riley Street\, Hudsonville\, MI\, 49426\, United States
END:VEVENT
BEGIN:VEVENT
DTSTART;TZID=America/New_York:20180619T190000
DTEND;TZID=America/New_York:20180619T210000
DTSTAMP:20260425T155439
CREATED:20171221T190016Z
LAST-MODIFIED:20171221T190016Z
UID:3206-1529434800-1529442000@twp.jamestown.mi.us
SUMMARY:Planning Commission Meeting
DESCRIPTION:
URL:https://twp.jamestown.mi.us/event/planning-commission-meeting-13/
LOCATION:Jamestown Charter Township Hall\, 2380 Riley Street\, Hudsonville\, MI\, 49426\, United States
END:VEVENT
BEGIN:VEVENT
DTSTART;TZID=America/New_York:20180621T160000
DTEND;TZID=America/New_York:20180621T180000
DTSTAMP:20260425T155439
CREATED:20180618T133012Z
LAST-MODIFIED:20180618T133826Z
UID:3921-1529596800-1529604000@twp.jamestown.mi.us
SUMMARY:Site Plan Review Committee Meeting
DESCRIPTION:Purpose of this meeting is to review site plans for J & H Oil / Tim Horton’s
URL:https://twp.jamestown.mi.us/event/site-plan-review-committee-meeting-2/
LOCATION:Jamestown Charter Township Hall\, 2380 Riley Street\, Hudsonville\, MI\, 49426\, United States
END:VEVENT
BEGIN:VEVENT
DTSTART;TZID=America/New_York:20180621T180000
DTEND;TZID=America/New_York:20180621T200000
DTSTAMP:20260425T155439
CREATED:20180620T233838Z
LAST-MODIFIED:20180620T233838Z
UID:3948-1529604000-1529611200@twp.jamestown.mi.us
SUMMARY:Parks and Recreation Committee Meeting
DESCRIPTION:
URL:https://twp.jamestown.mi.us/event/parks-and-recreation-committee-meeting-2/
LOCATION:Jamestown Charter Township Hall\, 2380 Riley Street\, Hudsonville\, MI\, 49426\, United States
END:VEVENT
END:VCALENDAR