BEGIN:VCALENDAR
VERSION:2.0
PRODID:-//Jamestown Charter Township - ECPv6.15.18//NONSGML v1.0//EN
CALSCALE:GREGORIAN
METHOD:PUBLISH
X-ORIGINAL-URL:https://twp.jamestown.mi.us
X-WR-CALDESC:Events for Jamestown Charter Township
REFRESH-INTERVAL;VALUE=DURATION:PT1H
X-Robots-Tag:noindex
X-PUBLISHED-TTL:PT1H
BEGIN:VTIMEZONE
TZID:America/New_York
BEGIN:DAYLIGHT
TZOFFSETFROM:-0500
TZOFFSETTO:-0400
TZNAME:EDT
DTSTART:20170312T070000
END:DAYLIGHT
BEGIN:STANDARD
TZOFFSETFROM:-0400
TZOFFSETTO:-0500
TZNAME:EST
DTSTART:20171105T060000
END:STANDARD
BEGIN:DAYLIGHT
TZOFFSETFROM:-0500
TZOFFSETTO:-0400
TZNAME:EDT
DTSTART:20180311T070000
END:DAYLIGHT
BEGIN:STANDARD
TZOFFSETFROM:-0400
TZOFFSETTO:-0500
TZNAME:EST
DTSTART:20181104T060000
END:STANDARD
BEGIN:DAYLIGHT
TZOFFSETFROM:-0500
TZOFFSETTO:-0400
TZNAME:EDT
DTSTART:20190310T070000
END:DAYLIGHT
BEGIN:STANDARD
TZOFFSETFROM:-0400
TZOFFSETTO:-0500
TZNAME:EST
DTSTART:20191103T060000
END:STANDARD
END:VTIMEZONE
BEGIN:VEVENT
DTSTART;TZID=America/New_York:20180208T190000
DTEND;TZID=America/New_York:20180208T210000
DTSTAMP:20260425T220621
CREATED:20180116T141540Z
LAST-MODIFIED:20180116T141540Z
UID:3300-1518116400-1518123600@twp.jamestown.mi.us
SUMMARY:Fire Department Liaison Committee Meeting
DESCRIPTION:
URL:https://twp.jamestown.mi.us/event/fire-department-liaison-committee-meeting/
LOCATION:Jamestown Charter Township Hall\, 2380 Riley Street\, Hudsonville\, MI\, 49426\, United States
END:VEVENT
BEGIN:VEVENT
DTSTART;TZID=America/New_York:20180210T090000
DTEND;TZID=America/New_York:20180210T120000
DTSTAMP:20260425T220621
CREATED:20180123T181220Z
LAST-MODIFIED:20180123T181632Z
UID:3349-1518253200-1518264000@twp.jamestown.mi.us
SUMMARY:Special Hours - Treasurer's Office
DESCRIPTION:The Treasurer’s Office will be open from 9:00 am-Noon to receive tax payments.
URL:https://twp.jamestown.mi.us/event/special-hours-treasurers-office/
LOCATION:Jamestown Charter Township Hall\, 2380 Riley Street\, Hudsonville\, MI\, 49426\, United States
END:VEVENT
BEGIN:VEVENT
DTSTART;VALUE=DATE:20180214
DTEND;VALUE=DATE:20180215
DTSTAMP:20260425T220621
CREATED:20180123T180958Z
LAST-MODIFIED:20180123T181416Z
UID:3346-1518566400-1518652799@twp.jamestown.mi.us
SUMMARY:Special Hours - Winter Taxes Due
DESCRIPTION:The Treasurer’s Office will be open from 9:00 am to 5:00 pm to receive tax payments.
URL:https://twp.jamestown.mi.us/event/winter-taxes-due/
LOCATION:Jamestown Charter Township Hall\, 2380 Riley Street\, Hudsonville\, MI\, 49426\, United States
END:VEVENT
BEGIN:VEVENT
DTSTART;TZID=America/New_York:20180215T180000
DTEND;TZID=America/New_York:20180215T200000
DTSTAMP:20260425T220621
CREATED:20170727T151542Z
LAST-MODIFIED:20170727T151542Z
UID:2211-1518717600-1518724800@twp.jamestown.mi.us
SUMMARY:Patmos Library Board Meeting
DESCRIPTION:
URL:https://twp.jamestown.mi.us/event/patmos-library-board-meeting-7/
LOCATION:Patmos Library\, 2445 Riley Street\, Hudsonville\, MI\, 49426\, United States
GEO:42.8260028;-85.8435086
X-APPLE-STRUCTURED-LOCATION;VALUE=URI;X-ADDRESS=Patmos Library 2445 Riley Street Hudsonville MI 49426 United States;X-APPLE-RADIUS=500;X-TITLE=2445 Riley Street:geo:-85.8435086,42.8260028
END:VEVENT
BEGIN:VEVENT
DTSTART;TZID=America/New_York:20180219T190000
DTEND;TZID=America/New_York:20180219T210000
DTSTAMP:20260425T220621
CREATED:20171221T183027Z
LAST-MODIFIED:20171221T183027Z
UID:3147-1519066800-1519074000@twp.jamestown.mi.us
SUMMARY:Township Board Meeting
DESCRIPTION:
URL:https://twp.jamestown.mi.us/event/township-board-meeting-9/
LOCATION:Jamestown Charter Township Hall\, 2380 Riley Street\, Hudsonville\, MI\, 49426\, United States
END:VEVENT
BEGIN:VEVENT
DTSTART;TZID=America/New_York:20180220T190000
DTEND;TZID=America/New_York:20180220T210000
DTSTAMP:20260425T220621
CREATED:20171221T185735Z
LAST-MODIFIED:20171221T185735Z
UID:3194-1519153200-1519160400@twp.jamestown.mi.us
SUMMARY:Planning Commission Meeting
DESCRIPTION:
URL:https://twp.jamestown.mi.us/event/planning-commission-meeting-9/
LOCATION:Jamestown Charter Township Hall\, 2380 Riley Street\, Hudsonville\, MI\, 49426\, United States
END:VEVENT
END:VCALENDAR