BEGIN:VCALENDAR
VERSION:2.0
PRODID:-//Jamestown Charter Township - ECPv6.15.18//NONSGML v1.0//EN
CALSCALE:GREGORIAN
METHOD:PUBLISH
X-WR-CALNAME:Jamestown Charter Township
X-ORIGINAL-URL:https://twp.jamestown.mi.us
X-WR-CALDESC:Events for Jamestown Charter Township
REFRESH-INTERVAL;VALUE=DURATION:PT1H
X-Robots-Tag:noindex
X-PUBLISHED-TTL:PT1H
BEGIN:VTIMEZONE
TZID:America/New_York
BEGIN:DAYLIGHT
TZOFFSETFROM:-0500
TZOFFSETTO:-0400
TZNAME:EDT
DTSTART:20160313T070000
END:DAYLIGHT
BEGIN:STANDARD
TZOFFSETFROM:-0400
TZOFFSETTO:-0500
TZNAME:EST
DTSTART:20161106T060000
END:STANDARD
BEGIN:DAYLIGHT
TZOFFSETFROM:-0500
TZOFFSETTO:-0400
TZNAME:EDT
DTSTART:20170312T070000
END:DAYLIGHT
BEGIN:STANDARD
TZOFFSETFROM:-0400
TZOFFSETTO:-0500
TZNAME:EST
DTSTART:20171105T060000
END:STANDARD
BEGIN:DAYLIGHT
TZOFFSETFROM:-0500
TZOFFSETTO:-0400
TZNAME:EDT
DTSTART:20180311T070000
END:DAYLIGHT
BEGIN:STANDARD
TZOFFSETFROM:-0400
TZOFFSETTO:-0500
TZNAME:EST
DTSTART:20181104T060000
END:STANDARD
END:VTIMEZONE
BEGIN:VEVENT
DTSTART;TZID=America/New_York:20171218T190000
DTEND;TZID=America/New_York:20171218T210000
DTSTAMP:20260423T044935
CREATED:20170727T143142Z
LAST-MODIFIED:20170727T143150Z
UID:2157-1513623600-1513630800@twp.jamestown.mi.us
SUMMARY:Township Board Meeting
DESCRIPTION:
URL:https://twp.jamestown.mi.us/event/township-board-meeting-7/
LOCATION:Jamestown Charter Township Hall\, 2380 Riley Street\, Hudsonville\, MI\, 49426\, United States
END:VEVENT
BEGIN:VEVENT
DTSTART;TZID=America/New_York:20171214T180000
DTEND;TZID=America/New_York:20171214T200000
DTSTAMP:20260423T044935
CREATED:20170727T151413Z
LAST-MODIFIED:20170727T151413Z
UID:2205-1513274400-1513281600@twp.jamestown.mi.us
SUMMARY:Patmos Library Board Meeting
DESCRIPTION:
URL:https://twp.jamestown.mi.us/event/patmos-library-board-meeting-5/
LOCATION:Patmos Library\, 2445 Riley Street\, Hudsonville\, MI\, 49426\, United States
GEO:42.8260028;-85.8435086
X-APPLE-STRUCTURED-LOCATION;VALUE=URI;X-ADDRESS=Patmos Library 2445 Riley Street Hudsonville MI 49426 United States;X-APPLE-RADIUS=500;X-TITLE=2445 Riley Street:geo:-85.8435086,42.8260028
END:VEVENT
BEGIN:VEVENT
DTSTART;TZID=America/New_York:20171212T190000
DTEND;TZID=America/New_York:20171212T210000
DTSTAMP:20260423T044935
CREATED:20171130T141016Z
LAST-MODIFIED:20171130T141016Z
UID:3071-1513105200-1513112400@twp.jamestown.mi.us
SUMMARY:Cemetery Ordinance Committee Meeting
DESCRIPTION:
URL:https://twp.jamestown.mi.us/event/cemetery-ordinance-committee-meeting-5/
LOCATION:Jamestown Charter Township Hall\, 2380 Riley Street\, Hudsonville\, MI\, 49426\, United States
ORGANIZER;CN="Candy DeHaan%2C Twp Clerk":MAILTO:cdehaan@twp.jamestown.mi.us
END:VEVENT
BEGIN:VEVENT
DTSTART;TZID=America/New_York:20171211T190000
DTEND;TZID=America/New_York:20171211T210000
DTSTAMP:20260423T044935
CREATED:20170727T145354Z
LAST-MODIFIED:20170727T145354Z
UID:2173-1513018800-1513026000@twp.jamestown.mi.us
SUMMARY:Fire Board Meeting
DESCRIPTION:
URL:https://twp.jamestown.mi.us/event/fire-board-meeting-5/
LOCATION:Jamestown Charter Township Hall\, 2380 Riley Street\, Hudsonville\, MI\, 49426\, United States
END:VEVENT
BEGIN:VEVENT
DTSTART;TZID=America/New_York:20171128T190000
DTEND;TZID=America/New_York:20171128T210000
DTSTAMP:20260423T044935
CREATED:20171116T164914Z
LAST-MODIFIED:20171116T164914Z
UID:3043-1511895600-1511902800@twp.jamestown.mi.us
SUMMARY:Cemetery Ordinance Committee Meeting
DESCRIPTION:
URL:https://twp.jamestown.mi.us/event/cemetery-ordinance-committee-meeting-4/
LOCATION:Township Hall
ORGANIZER;CN="Candy DeHaan%2C Twp Clerk":MAILTO:cdehaan@twp.jamestown.mi.us
END:VEVENT
BEGIN:VEVENT
DTSTART;VALUE=DATE:20171123
DTEND;VALUE=DATE:20171124
DTSTAMP:20260423T044935
CREATED:20171116T151306Z
LAST-MODIFIED:20171116T151306Z
UID:3024-1511395200-1511481599@twp.jamestown.mi.us
SUMMARY:Township Office Closed - Thanksgiving Holiday
DESCRIPTION:The Jamestown Township Office will be closed on Thursday\, November 23\, 2017\, for observance of the Thanksgiving holiday. Have a safe and happy Thanksgiving!
URL:https://twp.jamestown.mi.us/event/township-office-closed-thanksgiving-holiday/
LOCATION:Township Hall
END:VEVENT
BEGIN:VEVENT
DTSTART;TZID=America/New_York:20171121T190000
DTEND;TZID=America/New_York:20171121T210000
DTSTAMP:20260423T044935
CREATED:20170727T142204Z
LAST-MODIFIED:20170727T142204Z
UID:2137-1511290800-1511298000@twp.jamestown.mi.us
SUMMARY:Planning Commission Meeting
DESCRIPTION:
URL:https://twp.jamestown.mi.us/event/planning-commission-meeting-5/
LOCATION:Jamestown Charter Township Hall\, 2380 Riley Street\, Hudsonville\, MI\, 49426\, United States
END:VEVENT
BEGIN:VEVENT
DTSTART;TZID=America/New_York:20171120T190000
DTEND;TZID=America/New_York:20171120T210000
DTSTAMP:20260423T044935
CREATED:20170727T143013Z
LAST-MODIFIED:20171031T133648Z
UID:2152-1511204400-1511211600@twp.jamestown.mi.us
SUMMARY:Township Board Meeting
DESCRIPTION:Please view the Public Hearing Notice 11-20-17 Jamestown Meadows and Trillium Ridge (PDF)
URL:https://twp.jamestown.mi.us/event/township-board-meeting-6/
LOCATION:Jamestown Charter Township Hall\, 2380 Riley Street\, Hudsonville\, MI\, 49426\, United States
END:VEVENT
BEGIN:VEVENT
DTSTART;TZID=America/New_York:20171116T180000
DTEND;TZID=America/New_York:20171116T200000
DTSTAMP:20260423T044935
CREATED:20170727T151309Z
LAST-MODIFIED:20170727T151309Z
UID:2202-1510855200-1510862400@twp.jamestown.mi.us
SUMMARY:Patmos Library Board Meeting
DESCRIPTION:
URL:https://twp.jamestown.mi.us/event/patmos-library-board-meeting-4/
LOCATION:Patmos Library\, 2445 Riley Street\, Hudsonville\, MI\, 49426\, United States
GEO:42.8260028;-85.8435086
X-APPLE-STRUCTURED-LOCATION;VALUE=URI;X-ADDRESS=Patmos Library 2445 Riley Street Hudsonville MI 49426 United States;X-APPLE-RADIUS=500;X-TITLE=2445 Riley Street:geo:-85.8435086,42.8260028
END:VEVENT
BEGIN:VEVENT
DTSTART;TZID=America/New_York:20171113T190000
DTEND;TZID=America/New_York:20171113T210000
DTSTAMP:20260423T044935
CREATED:20171030T185003Z
LAST-MODIFIED:20171030T185003Z
UID:2986-1510599600-1510606800@twp.jamestown.mi.us
SUMMARY:Cemetery Ordinance Committee Meeting
DESCRIPTION:
URL:https://twp.jamestown.mi.us/event/cemetery-ordinance-committee-meeting-3/
LOCATION:Jamestown Charter Township Hall\, 2380 Riley Street\, Hudsonville\, MI\, 49426\, United States
ORGANIZER;CN="Candy DeHaan%2C Twp Clerk":MAILTO:cdehaan@twp.jamestown.mi.us
END:VEVENT
BEGIN:VEVENT
DTSTART;TZID=America/New_York:20171113T190000
DTEND;TZID=America/New_York:20171113T210000
DTSTAMP:20260423T044935
CREATED:20170727T144746Z
LAST-MODIFIED:20170727T144746Z
UID:2170-1510599600-1510606800@twp.jamestown.mi.us
SUMMARY:Fire Board Meeting
DESCRIPTION:
URL:https://twp.jamestown.mi.us/event/fire-board-meeting-4/
LOCATION:Jamestown Charter Township Hall\, 2380 Riley Street\, Hudsonville\, MI\, 49426\, United States
END:VEVENT
BEGIN:VEVENT
DTSTART;TZID=America/New_York:20171107T180000
DTEND;TZID=America/New_York:20171107T200000
DTSTAMP:20260423T044935
CREATED:20171024T143911Z
LAST-MODIFIED:20171024T143911Z
UID:2970-1510077600-1510084800@twp.jamestown.mi.us
SUMMARY:ZBA Meeting
DESCRIPTION:This Zoning Board of Appeals Meeting is for the purpose of considering the following applications: \n\nA request from Kevin Wiersema of 2615 Kenowa Ave\, also known as permanent parcel 70-18-13-400-028\, for a variance to allow for more than one employee who does not reside on the premises. This variance would provide for relief from Section 3.4 A & 6.4 N.11.
URL:https://twp.jamestown.mi.us/event/zba-meeting-3/
LOCATION:Jamestown Charter Township Hall\, 2380 Riley Street\, Hudsonville\, MI\, 49426\, United States
END:VEVENT
BEGIN:VEVENT
DTSTART;TZID=America/New_York:20171026T143000
DTEND;TZID=America/New_York:20171026T163000
DTSTAMP:20260423T044935
CREATED:20171024T142214Z
LAST-MODIFIED:20171024T142214Z
UID:2966-1509028200-1509035400@twp.jamestown.mi.us
SUMMARY:Site Plan Review Committee
DESCRIPTION:Purpose is to review a site plan for Mercy Health\, Lakeshore Sand and River Crest Ranch.
URL:https://twp.jamestown.mi.us/event/site-plan-review-committee-3/
LOCATION:Jamestown Charter Township Hall\, 2380 Riley Street\, Hudsonville\, MI\, 49426\, United States
END:VEVENT
BEGIN:VEVENT
DTSTART;TZID=America/New_York:20171024T190000
DTEND;TZID=America/New_York:20171024T210000
DTSTAMP:20260423T044935
CREATED:20171023T181423Z
LAST-MODIFIED:20171024T141720Z
UID:2952-1508871600-1508878800@twp.jamestown.mi.us
SUMMARY:Cemetery Ordinance Committee Meeting
DESCRIPTION:
URL:https://twp.jamestown.mi.us/event/cemetery-ordinance-committee-meeting-2/
LOCATION:Jamestown Charter Township Hall\, 2380 Riley Street\, Hudsonville\, MI\, 49426\, United States
ORGANIZER;CN="Candy DeHaan%2C Twp Clerk":MAILTO:cdehaan@twp.jamestown.mi.us
END:VEVENT
BEGIN:VEVENT
DTSTART;TZID=America/New_York:20171017T190000
DTEND;TZID=America/New_York:20171017T210000
DTSTAMP:20260423T044935
CREATED:20171012T131021Z
LAST-MODIFIED:20171012T131021Z
UID:2908-1508266800-1508274000@twp.jamestown.mi.us
SUMMARY:Cemetery Ordinance Committee Meeting
DESCRIPTION:
URL:https://twp.jamestown.mi.us/event/cemetery-ordinance-committee-meeting/
LOCATION:Jamestown Charter Township Hall\, 2380 Riley Street\, Hudsonville\, MI\, 49426\, United States
ORGANIZER;CN="Candy DeHaan%2C Twp Clerk":MAILTO:cdehaan@twp.jamestown.mi.us
END:VEVENT
BEGIN:VEVENT
DTSTART;TZID=America/New_York:20171017T190000
DTEND;TZID=America/New_York:20171017T210000
DTSTAMP:20260423T044935
CREATED:20170727T142110Z
LAST-MODIFIED:20170727T142110Z
UID:2134-1508266800-1508274000@twp.jamestown.mi.us
SUMMARY:Planning Commission Meeting
DESCRIPTION:
URL:https://twp.jamestown.mi.us/event/planning-commission-meeting-4/
LOCATION:Jamestown Charter Township Hall\, 2380 Riley Street\, Hudsonville\, MI\, 49426\, United States
END:VEVENT
BEGIN:VEVENT
DTSTART;TZID=America/New_York:20171016T190000
DTEND;TZID=America/New_York:20171016T210000
DTSTAMP:20260423T044935
CREATED:20170727T142812Z
LAST-MODIFIED:20170727T142812Z
UID:2149-1508180400-1508187600@twp.jamestown.mi.us
SUMMARY:Township Board Meeting
DESCRIPTION:
URL:https://twp.jamestown.mi.us/event/township-board-meeting-5/
LOCATION:Jamestown Charter Township Hall\, 2380 Riley Street\, Hudsonville\, MI\, 49426\, United States
END:VEVENT
BEGIN:VEVENT
DTSTART;TZID=America/New_York:20171014T070000
DTEND;TZID=America/New_York:20171014T100000
DTSTAMP:20260423T044935
CREATED:20170925T155957Z
LAST-MODIFIED:20171005T174057Z
UID:2817-1507964400-1507975200@twp.jamestown.mi.us
SUMMARY:28th Annual Fireman's Pancake Breakfast
DESCRIPTION:
URL:https://twp.jamestown.mi.us/event/28th-annual-pancake-breakfast/
LOCATION:Jamestown Fire Station #2\, 1525 36th Avenue\, Hudsonville\, MI\, 49426\, United States
GEO:42.7951236;-85.8713869
X-APPLE-STRUCTURED-LOCATION;VALUE=URI;X-ADDRESS=Jamestown Fire Station #2 1525 36th Avenue Hudsonville MI 49426 United States;X-APPLE-RADIUS=500;X-TITLE=1525 36th Avenue:geo:-85.8713869,42.7951236
END:VEVENT
BEGIN:VEVENT
DTSTART;TZID=America/New_York:20171012T180000
DTEND;TZID=America/New_York:20171012T200000
DTSTAMP:20260423T044935
CREATED:20170727T151225Z
LAST-MODIFIED:20170727T151225Z
UID:2199-1507831200-1507838400@twp.jamestown.mi.us
SUMMARY:Patmos Library Board Meeting
DESCRIPTION:
URL:https://twp.jamestown.mi.us/event/patmos-library-board-meeting-3/
LOCATION:Patmos Library\, 2445 Riley Street\, Hudsonville\, MI\, 49426\, United States
GEO:42.8260028;-85.8435086
X-APPLE-STRUCTURED-LOCATION;VALUE=URI;X-ADDRESS=Patmos Library 2445 Riley Street Hudsonville MI 49426 United States;X-APPLE-RADIUS=500;X-TITLE=2445 Riley Street:geo:-85.8435086,42.8260028
END:VEVENT
BEGIN:VEVENT
DTSTART;TZID=America/New_York:20171010T190000
DTEND;TZID=America/New_York:20171010T210000
DTSTAMP:20260423T044935
CREATED:20170919T155435Z
LAST-MODIFIED:20170919T155449Z
UID:2785-1507662000-1507669200@twp.jamestown.mi.us
SUMMARY:Planning Commission Meeting
DESCRIPTION:The purpose of our meeting is to hear and consider the following: \n\nVan Dis – 3665 Mason Street\, parcel number 70-18-32-100-008. Seeking to locate swimming pool in front of the dwelling.\n\n\nDornbush – 635 28th Avenue\, parcel number 70-18-33-100-019. Seeking to locate accessory building in front of the dwelling.\n\n\nHouseman – 2075 24th Avenue\, parcel number 70-18-21-200-020. Seeking to locate accessory building in front of the dwelling.
URL:https://twp.jamestown.mi.us/event/planning-commission-meeting-7/
LOCATION:Jamestown Charter Township Hall\, 2380 Riley Street\, Hudsonville\, MI\, 49426\, United States
END:VEVENT
BEGIN:VEVENT
DTSTART;TZID=America/New_York:20171009T190000
DTEND;TZID=America/New_York:20171009T210000
DTSTAMP:20260423T044935
CREATED:20170727T144707Z
LAST-MODIFIED:20170727T144707Z
UID:2167-1507575600-1507582800@twp.jamestown.mi.us
SUMMARY:Fire Board Meeting
DESCRIPTION:
URL:https://twp.jamestown.mi.us/event/fire-board-meeting-3/
LOCATION:Jamestown Charter Township Hall\, 2380 Riley Street\, Hudsonville\, MI\, 49426\, United States
END:VEVENT
BEGIN:VEVENT
DTSTART;TZID=America/New_York:20171004T080000
DTEND;TZID=America/New_York:20171004T100000
DTSTAMP:20260423T044935
CREATED:20170925T162604Z
LAST-MODIFIED:20170925T162955Z
UID:2830-1507104000-1507111200@twp.jamestown.mi.us
SUMMARY:Cops & Coffee
DESCRIPTION:Sheriff’s Deputy Adam Van Dis will be at The Little Dipper to answer any questions from Jamestown Township residents and business owners.
URL:https://twp.jamestown.mi.us/event/cops-coffee/
LOCATION:The Little Dipper\, 2407 Riley Street\, Hudsonville\, MI\, 49426\, United States
ORGANIZER;CN="Deputy Adam Van Dis":MAILTO:avandis@miottawa.org
GEO:42.8257632;-85.8424922
X-APPLE-STRUCTURED-LOCATION;VALUE=URI;X-ADDRESS=The Little Dipper 2407 Riley Street Hudsonville MI 49426 United States;X-APPLE-RADIUS=500;X-TITLE=2407 Riley Street:geo:-85.8424922,42.8257632
END:VEVENT
BEGIN:VEVENT
DTSTART;TZID=America/New_York:20170926T090000
DTEND;TZID=America/New_York:20170926T170000
DTSTAMP:20260423T044935
CREATED:20170821T144849Z
LAST-MODIFIED:20170821T145107Z
UID:2474-1506416400-1506445200@twp.jamestown.mi.us
SUMMARY:National Voter Registration Day
DESCRIPTION:Every year millions of Americans find themselves unable to vote because they miss a registration deadline\, don’t update their registration\, or aren’t sure how to register. National Voter Registration Day wants to make sure every eligible voter has the opportunity to vote.  The holiday has been endorsed by the National Association of Secretaries of State. Visit your local Secretary of State or the Township Office for Elections and Voter Information.
URL:https://twp.jamestown.mi.us/event/national-voter-registration-day/
LOCATION:Jamestown Charter Township Hall\, 2380 Riley Street\, Hudsonville\, MI\, 49426\, United States
END:VEVENT
BEGIN:VEVENT
DTSTART;TZID=America/New_York:20170919T190000
DTEND;TZID=America/New_York:20170919T210000
DTSTAMP:20260423T044935
CREATED:20170727T141900Z
LAST-MODIFIED:20170919T155902Z
UID:2131-1505847600-1505854800@twp.jamestown.mi.us
SUMMARY:Planning Commission Meeting
DESCRIPTION:Site Plan Review for Heyboer HQ (DHE)\n▪ 4475 8th Avenue – Proposed 7\,700 square foot office and 24\,400 square foot warehouse
URL:https://twp.jamestown.mi.us/event/planning-commission-meeting-3/
LOCATION:Jamestown Charter Township Hall\, 2380 Riley Street\, Hudsonville\, MI\, 49426\, United States
END:VEVENT
BEGIN:VEVENT
DTSTART;TZID=America/New_York:20170919T180000
DTEND;TZID=America/New_York:20170919T193000
DTSTAMP:20260423T044935
CREATED:20170822T155931Z
LAST-MODIFIED:20170822T161444Z
UID:2513-1505844000-1505849400@twp.jamestown.mi.us
SUMMARY:Farms are the Tapas
DESCRIPTION:Come watch local chefs compete in a cooking competition! Farms are the Tapas will treat your taste buds to fresh\, locally grown food. All proceeds from the event benefit farmland preservation efforts in Ottawa County. Tickets: Eventbrite \n 
URL:https://twp.jamestown.mi.us/event/farms-are-the-tapas/
LOCATION:Walters Gardens\, 1992 96th Ave\, Zeeland\, MI\, 49464
ORGANIZER;CN="Linda Falstad":MAILTO:lfalstad@miottawa.org
END:VEVENT
BEGIN:VEVENT
DTSTART;TZID=America/New_York:20170918T180000
DTEND;TZID=America/New_York:20170918T190000
DTSTAMP:20260423T044935
CREATED:20170727T142722Z
LAST-MODIFIED:20170914T220053Z
UID:2146-1505757600-1505761200@twp.jamestown.mi.us
SUMMARY:Township Board Meeting - 6pm start
DESCRIPTION:Edit: 9/18/17 Meeting has been changed to 6:00 p.m. – 7:00 p.m.
URL:https://twp.jamestown.mi.us/event/township-board-meeting-4/
LOCATION:Jamestown Charter Township Hall\, 2380 Riley Street\, Hudsonville\, MI\, 49426\, United States
END:VEVENT
BEGIN:VEVENT
DTSTART;TZID=America/New_York:20170914T180000
DTEND;TZID=America/New_York:20170914T200000
DTSTAMP:20260423T044935
CREATED:20170727T151147Z
LAST-MODIFIED:20170727T151147Z
UID:2196-1505412000-1505419200@twp.jamestown.mi.us
SUMMARY:Patmos Library Board Meeting
DESCRIPTION:
URL:https://twp.jamestown.mi.us/event/patmos-library-board-meeting-2/
LOCATION:Patmos Library\, 2445 Riley Street\, Hudsonville\, MI\, 49426\, United States
GEO:42.8260028;-85.8435086
X-APPLE-STRUCTURED-LOCATION;VALUE=URI;X-ADDRESS=Patmos Library 2445 Riley Street Hudsonville MI 49426 United States;X-APPLE-RADIUS=500;X-TITLE=2445 Riley Street:geo:-85.8435086,42.8260028
END:VEVENT
BEGIN:VEVENT
DTSTART;TZID=America/New_York:20170913T093000
DTEND;TZID=America/New_York:20170913T123000
DTSTAMP:20260423T044935
CREATED:20170905T134955Z
LAST-MODIFIED:20170905T135235Z
UID:2661-1505295000-1505305800@twp.jamestown.mi.us
SUMMARY:New Election Equipment Public Demonstration (Holland)
DESCRIPTION:The Ottawa County Clerk’s Office in partnership with local clerks will be holding public demonstrations of the new voting equipment in order to give voters an opportunity to see it first-hand prior to Election Day. All are welcome!
URL:https://twp.jamestown.mi.us/event/new-election-equipment-demonstration-holland/
LOCATION:Herrick District Library\, 300 S. River Avenue\, Holland\, MI\, 49423\, United States
ORGANIZER;CN="Ottawa County Clerk":MAILTO:countyclerk@miottawa.org
END:VEVENT
BEGIN:VEVENT
DTSTART;TZID=America/New_York:20170912T180000
DTEND;TZID=America/New_York:20170912T200000
DTSTAMP:20260423T044935
CREATED:20170912T173319Z
LAST-MODIFIED:20170912T173319Z
UID:2710-1505239200-1505246400@twp.jamestown.mi.us
SUMMARY:ZBA Meeting
DESCRIPTION:This Zoning Board of Appeals Meeting is for the purpose of considering the following applications: \n• A request from Rapidtek Industries of 3825 Central Parkway\, also known as permanent parcel 70-18-08-230-004\, for a variance to allow a front yard setback of sixty seven (67) instead of the required seventy five (75) feet. This variance would provide for relief from Section 14.5 D.2: Front Yard Requirements within the I-2 Planned Industrial District. \n• A request from Todd & Lisa Dornbush of 635 28th Ave. also known as permanent parcel 70-18-33-100-019\, for a variance to construct an accessory building that will contain horses twenty five (25) feet from a side property line instead of the required seventy five (75) feet. This variance would provide relief from Section 3.5 b of the Jamestown Charter Township Zoning Ordinance.
URL:https://twp.jamestown.mi.us/event/zba-meeting-2/
LOCATION:Jamestown Charter Township Hall\, 2380 Riley Street\, Hudsonville\, MI\, 49426\, United States
END:VEVENT
BEGIN:VEVENT
DTSTART;TZID=America/New_York:20170912T130000
DTEND;TZID=America/New_York:20170912T163000
DTSTAMP:20260423T044935
CREATED:20170905T134731Z
LAST-MODIFIED:20170905T135311Z
UID:2656-1505221200-1505233800@twp.jamestown.mi.us
SUMMARY:New Election Equipment Public Demonstration (Zeeland)
DESCRIPTION:The Ottawa County Clerk’s Office in partnership with local clerks will be holding public demonstrations of the new voting equipment in order to give voters an opportunity to see it first-hand prior to Election Day. All are welcome!
URL:https://twp.jamestown.mi.us/event/new-election-equipment-demonstration-zeeland/
LOCATION:Howard Miller Library\, 14 S. Church Street\, Zeeland\, MI\, 49464\, United States
ORGANIZER;CN="Ottawa County Clerk":MAILTO:countyclerk@miottawa.org
GEO:42.8117141;-86.0143748
X-APPLE-STRUCTURED-LOCATION;VALUE=URI;X-ADDRESS=Howard Miller Library 14 S. Church Street Zeeland MI 49464 United States;X-APPLE-RADIUS=500;X-TITLE=14 S. Church Street:geo:-86.0143748,42.8117141
END:VEVENT
END:VCALENDAR