BEGIN:VCALENDAR
VERSION:2.0
PRODID:-//Jamestown Charter Township - ECPv6.15.18//NONSGML v1.0//EN
CALSCALE:GREGORIAN
METHOD:PUBLISH
X-WR-CALNAME:Jamestown Charter Township
X-ORIGINAL-URL:https://twp.jamestown.mi.us
X-WR-CALDESC:Events for Jamestown Charter Township
REFRESH-INTERVAL;VALUE=DURATION:PT1H
X-Robots-Tag:noindex
X-PUBLISHED-TTL:PT1H
BEGIN:VTIMEZONE
TZID:America/New_York
BEGIN:DAYLIGHT
TZOFFSETFROM:-0500
TZOFFSETTO:-0400
TZNAME:EDT
DTSTART:20160313T070000
END:DAYLIGHT
BEGIN:STANDARD
TZOFFSETFROM:-0400
TZOFFSETTO:-0500
TZNAME:EST
DTSTART:20161106T060000
END:STANDARD
BEGIN:DAYLIGHT
TZOFFSETFROM:-0500
TZOFFSETTO:-0400
TZNAME:EDT
DTSTART:20170312T070000
END:DAYLIGHT
BEGIN:STANDARD
TZOFFSETFROM:-0400
TZOFFSETTO:-0500
TZNAME:EST
DTSTART:20171105T060000
END:STANDARD
BEGIN:DAYLIGHT
TZOFFSETFROM:-0500
TZOFFSETTO:-0400
TZNAME:EDT
DTSTART:20180311T070000
END:DAYLIGHT
BEGIN:STANDARD
TZOFFSETFROM:-0400
TZOFFSETTO:-0500
TZNAME:EST
DTSTART:20181104T060000
END:STANDARD
END:VTIMEZONE
BEGIN:VEVENT
DTSTART;TZID=America/New_York:20170711T180000
DTEND;TZID=America/New_York:20170711T200000
DTSTAMP:20260422T175857
CREATED:20170626T152326Z
LAST-MODIFIED:20170626T152326Z
UID:1476-1499796000-1499803200@twp.jamestown.mi.us
SUMMARY:ZBA Meeting
DESCRIPTION:
URL:https://twp.jamestown.mi.us/event/zba-meeting/
LOCATION:MI
END:VEVENT
BEGIN:VEVENT
DTSTART;TZID=America/New_York:20170704T090000
DTEND;TZID=America/New_York:20170704T170000
DTSTAMP:20260422T175857
CREATED:20170629T175659Z
LAST-MODIFIED:20170629T175743Z
UID:1675-1499158800-1499187600@twp.jamestown.mi.us
SUMMARY:Township Office Closed
DESCRIPTION:The Township Office will be closed on Tuesday\, July 4\, 2017\, in observance of Independence Day. We will be open on Monday\, July 3rd during our regular office hours of 9:00 AM to 5:00 PM. We wish all Jamestown Township residents a happy and safe Fourth of July holiday!
URL:https://twp.jamestown.mi.us/event/township-office-closed-july-4-2017/
LOCATION:MI
END:VEVENT
BEGIN:VEVENT
DTSTART;TZID=America/New_York:20170620T190000
DTEND;TZID=America/New_York:20170620T210000
DTSTAMP:20260422T175857
CREATED:20150601T033700Z
LAST-MODIFIED:20170620T115416Z
UID:443-1497985200-1497992400@twp.jamestown.mi.us
SUMMARY:Planning Commission Meeting
DESCRIPTION:
URL:https://twp.jamestown.mi.us/event/planning-commission/
LOCATION:enfold
END:VEVENT
BEGIN:VEVENT
DTSTART;TZID=America/New_York:20170619T190000
DTEND;TZID=America/New_York:20170619T190000
DTSTAMP:20260422T175857
CREATED:20150601T033213Z
LAST-MODIFIED:20170620T115358Z
UID:437-1497898800-1497898800@twp.jamestown.mi.us
SUMMARY:Township Board Meeting
DESCRIPTION:
URL:https://twp.jamestown.mi.us/event/township-board-meeting/
LOCATION:enfold
END:VEVENT
END:VCALENDAR