BEGIN:VCALENDAR
VERSION:2.0
PRODID:-//Jamestown Charter Township - ECPv6.15.18//NONSGML v1.0//EN
CALSCALE:GREGORIAN
METHOD:PUBLISH
X-WR-CALNAME:Jamestown Charter Township
X-ORIGINAL-URL:https://twp.jamestown.mi.us
X-WR-CALDESC:Events for Jamestown Charter Township
REFRESH-INTERVAL;VALUE=DURATION:PT1H
X-Robots-Tag:noindex
X-PUBLISHED-TTL:PT1H
BEGIN:VTIMEZONE
TZID:America/New_York
BEGIN:DAYLIGHT
TZOFFSETFROM:-0500
TZOFFSETTO:-0400
TZNAME:EDT
DTSTART:20160313T070000
END:DAYLIGHT
BEGIN:STANDARD
TZOFFSETFROM:-0400
TZOFFSETTO:-0500
TZNAME:EST
DTSTART:20161106T060000
END:STANDARD
BEGIN:DAYLIGHT
TZOFFSETFROM:-0500
TZOFFSETTO:-0400
TZNAME:EDT
DTSTART:20170312T070000
END:DAYLIGHT
BEGIN:STANDARD
TZOFFSETFROM:-0400
TZOFFSETTO:-0500
TZNAME:EST
DTSTART:20171105T060000
END:STANDARD
BEGIN:DAYLIGHT
TZOFFSETFROM:-0500
TZOFFSETTO:-0400
TZNAME:EDT
DTSTART:20180311T070000
END:DAYLIGHT
BEGIN:STANDARD
TZOFFSETFROM:-0400
TZOFFSETTO:-0500
TZNAME:EST
DTSTART:20181104T060000
END:STANDARD
END:VTIMEZONE
BEGIN:VEVENT
DTSTART;TZID=America/New_York:20170911T190000
DTEND;TZID=America/New_York:20170911T210000
DTSTAMP:20260422T155626
CREATED:20170727T143939Z
LAST-MODIFIED:20170727T143939Z
UID:2163-1505156400-1505163600@twp.jamestown.mi.us
SUMMARY:Fire Board Meeting
DESCRIPTION:
URL:https://twp.jamestown.mi.us/event/fire-board-meeting-2/
LOCATION:Jamestown Charter Township Hall\, 2380 Riley Street\, Hudsonville\, MI\, 49426\, United States
END:VEVENT
BEGIN:VEVENT
DTSTART;TZID=America/New_York:20170831T143000
DTEND;TZID=America/New_York:20170831T163000
DTSTAMP:20260422T155626
CREATED:20170824T181711Z
LAST-MODIFIED:20170824T181711Z
UID:2578-1504189800-1504197000@twp.jamestown.mi.us
SUMMARY:Site Plan Review Committee
DESCRIPTION:Purpose is to review a site plan for office and warehouse headquarters from Heyboer Mechanical Contractor.
URL:https://twp.jamestown.mi.us/event/site-plan-review-committee-2/
LOCATION:Jamestown Charter Township Hall\, 2380 Riley Street\, Hudsonville\, MI\, 49426\, United States
END:VEVENT
BEGIN:VEVENT
DTSTART;TZID=America/New_York:20170828T190000
DTEND;TZID=America/New_York:20170828T210000
DTSTAMP:20260422T155626
CREATED:20170822T142338Z
LAST-MODIFIED:20170822T142338Z
UID:2495-1503946800-1503954000@twp.jamestown.mi.us
SUMMARY:Special Township Board Meeting
DESCRIPTION:Topic: Fire Station financing
URL:https://twp.jamestown.mi.us/event/special-township-board-meeting/
LOCATION:Jamestown Charter Township Hall\, 2380 Riley Street\, Hudsonville\, MI\, 49426\, United States
END:VEVENT
BEGIN:VEVENT
DTSTART;TZID=America/New_York:20170821T190000
DTEND;TZID=America/New_York:20170821T210000
DTSTAMP:20260422T155626
CREATED:20170727T142641Z
LAST-MODIFIED:20170727T142641Z
UID:2143-1503342000-1503349200@twp.jamestown.mi.us
SUMMARY:Township Board Meeting
DESCRIPTION:
URL:https://twp.jamestown.mi.us/event/township-board-meeting-3/
LOCATION:Jamestown Charter Township Hall\, 2380 Riley Street\, Hudsonville\, MI\, 49426\, United States
END:VEVENT
BEGIN:VEVENT
DTSTART;TZID=America/New_York:20170817T180000
DTEND;TZID=America/New_York:20170817T200000
DTSTAMP:20260422T155626
CREATED:20170727T150925Z
LAST-MODIFIED:20170727T150925Z
UID:2191-1502992800-1503000000@twp.jamestown.mi.us
SUMMARY:Patmos Library Board Meeting
DESCRIPTION:
URL:https://twp.jamestown.mi.us/event/patmos-library-board-meeting/
LOCATION:Patmos Library\, 2445 Riley Street\, Hudsonville\, MI\, 49426\, United States
GEO:42.8260028;-85.8435086
X-APPLE-STRUCTURED-LOCATION;VALUE=URI;X-ADDRESS=Patmos Library 2445 Riley Street Hudsonville MI 49426 United States;X-APPLE-RADIUS=500;X-TITLE=2445 Riley Street:geo:-85.8435086,42.8260028
END:VEVENT
BEGIN:VEVENT
DTSTART;TZID=America/New_York:20170815T190000
DTEND;TZID=America/New_York:20170815T210000
DTSTAMP:20260422T155626
CREATED:20170727T141307Z
LAST-MODIFIED:20170727T141609Z
UID:2123-1502823600-1502830800@twp.jamestown.mi.us
SUMMARY:Planning Commission Meeting
DESCRIPTION:
URL:https://twp.jamestown.mi.us/event/planning-commission-meeting-2/
LOCATION:Jamestown Charter Township Hall\, 2380 Riley Street\, Hudsonville\, MI\, 49426\, United States
END:VEVENT
BEGIN:VEVENT
DTSTART;TZID=America/New_York:20170814T190000
DTEND;TZID=America/New_York:20170814T210000
DTSTAMP:20260422T155626
CREATED:20170727T143904Z
LAST-MODIFIED:20170727T143904Z
UID:2160-1502737200-1502744400@twp.jamestown.mi.us
SUMMARY:Fire Board Meeting
DESCRIPTION:
URL:https://twp.jamestown.mi.us/event/fire-board-meeting/
LOCATION:Jamestown Charter Township Hall\, 2380 Riley Street\, Hudsonville\, MI\, 49426\, United States
END:VEVENT
BEGIN:VEVENT
DTSTART;TZID=America/New_York:20170720T143000
DTEND;TZID=America/New_York:20170720T153000
DTSTAMP:20260422T155626
CREATED:20170718T123505Z
LAST-MODIFIED:20170718T123505Z
UID:2033-1500561000-1500564600@twp.jamestown.mi.us
SUMMARY:Site Plan Review Committee
DESCRIPTION:The purpose of this meeting is to review a site plan from Jamestown Charter Township Fire Department and a site plan from RapidTek.
URL:https://twp.jamestown.mi.us/event/site-plan-review-committee/
LOCATION:MI
END:VEVENT
BEGIN:VEVENT
DTSTART;TZID=America/New_York:20170718T190000
DTEND;TZID=America/New_York:20170718T210000
DTSTAMP:20260422T155626
CREATED:20170714T132433Z
LAST-MODIFIED:20170714T132433Z
UID:2002-1500404400-1500411600@twp.jamestown.mi.us
SUMMARY:Planning Commission Meeting
DESCRIPTION:
URL:https://twp.jamestown.mi.us/event/planning-commission-meeting/
LOCATION:MI
END:VEVENT
BEGIN:VEVENT
DTSTART;TZID=America/New_York:20170718T180000
DTEND;TZID=America/New_York:20170718T190000
DTSTAMP:20260422T155626
CREATED:20170629T181220Z
LAST-MODIFIED:20170629T181220Z
UID:1684-1500400800-1500404400@twp.jamestown.mi.us
SUMMARY:Board of Review
DESCRIPTION:
URL:https://twp.jamestown.mi.us/event/board-of-review/
LOCATION:MI
END:VEVENT
BEGIN:VEVENT
DTSTART;TZID=America/New_York:20170717T190000
DTEND;TZID=America/New_York:20170717T210000
DTSTAMP:20260422T155626
CREATED:20170714T132356Z
LAST-MODIFIED:20170714T132356Z
UID:1999-1500318000-1500325200@twp.jamestown.mi.us
SUMMARY:Township Board Meeting
DESCRIPTION:
URL:https://twp.jamestown.mi.us/event/township-board-meeting-2/
LOCATION:MI
END:VEVENT
BEGIN:VEVENT
DTSTART;TZID=America/New_York:20170712T160000
DTEND;TZID=America/New_York:20170712T180000
DTSTAMP:20260422T155626
CREATED:20170710T201339Z
LAST-MODIFIED:20170710T201339Z
UID:1912-1499875200-1499882400@twp.jamestown.mi.us
SUMMARY:Fire Commission Meeting
DESCRIPTION:The purpose of this meeting is to work on staffing policy.
URL:https://twp.jamestown.mi.us/event/fire-commission-meeting/
LOCATION:MI
END:VEVENT
BEGIN:VEVENT
DTSTART;TZID=America/New_York:20170711T180000
DTEND;TZID=America/New_York:20170711T200000
DTSTAMP:20260422T155626
CREATED:20170626T152326Z
LAST-MODIFIED:20170626T152326Z
UID:1476-1499796000-1499803200@twp.jamestown.mi.us
SUMMARY:ZBA Meeting
DESCRIPTION:
URL:https://twp.jamestown.mi.us/event/zba-meeting/
LOCATION:MI
END:VEVENT
BEGIN:VEVENT
DTSTART;TZID=America/New_York:20170704T090000
DTEND;TZID=America/New_York:20170704T170000
DTSTAMP:20260422T155626
CREATED:20170629T175659Z
LAST-MODIFIED:20170629T175743Z
UID:1675-1499158800-1499187600@twp.jamestown.mi.us
SUMMARY:Township Office Closed
DESCRIPTION:The Township Office will be closed on Tuesday\, July 4\, 2017\, in observance of Independence Day. We will be open on Monday\, July 3rd during our regular office hours of 9:00 AM to 5:00 PM. We wish all Jamestown Township residents a happy and safe Fourth of July holiday!
URL:https://twp.jamestown.mi.us/event/township-office-closed-july-4-2017/
LOCATION:MI
END:VEVENT
BEGIN:VEVENT
DTSTART;TZID=America/New_York:20170620T190000
DTEND;TZID=America/New_York:20170620T210000
DTSTAMP:20260422T155626
CREATED:20150601T033700Z
LAST-MODIFIED:20170620T115416Z
UID:443-1497985200-1497992400@twp.jamestown.mi.us
SUMMARY:Planning Commission Meeting
DESCRIPTION:
URL:https://twp.jamestown.mi.us/event/planning-commission/
LOCATION:enfold
END:VEVENT
BEGIN:VEVENT
DTSTART;TZID=America/New_York:20170619T190000
DTEND;TZID=America/New_York:20170619T190000
DTSTAMP:20260422T155626
CREATED:20150601T033213Z
LAST-MODIFIED:20170620T115358Z
UID:437-1497898800-1497898800@twp.jamestown.mi.us
SUMMARY:Township Board Meeting
DESCRIPTION:
URL:https://twp.jamestown.mi.us/event/township-board-meeting/
LOCATION:enfold
END:VEVENT
END:VCALENDAR