BEGIN:VCALENDAR
VERSION:2.0
PRODID:-//Jamestown Charter Township - ECPv6.15.18//NONSGML v1.0//EN
CALSCALE:GREGORIAN
METHOD:PUBLISH
X-WR-CALNAME:Jamestown Charter Township
X-ORIGINAL-URL:https://twp.jamestown.mi.us
X-WR-CALDESC:Events for Jamestown Charter Township
REFRESH-INTERVAL;VALUE=DURATION:PT1H
X-Robots-Tag:noindex
X-PUBLISHED-TTL:PT1H
BEGIN:VTIMEZONE
TZID:America/New_York
BEGIN:DAYLIGHT
TZOFFSETFROM:-0500
TZOFFSETTO:-0400
TZNAME:EDT
DTSTART:20160313T070000
END:DAYLIGHT
BEGIN:STANDARD
TZOFFSETFROM:-0400
TZOFFSETTO:-0500
TZNAME:EST
DTSTART:20161106T060000
END:STANDARD
BEGIN:DAYLIGHT
TZOFFSETFROM:-0500
TZOFFSETTO:-0400
TZNAME:EDT
DTSTART:20170312T070000
END:DAYLIGHT
BEGIN:STANDARD
TZOFFSETFROM:-0400
TZOFFSETTO:-0500
TZNAME:EST
DTSTART:20171105T060000
END:STANDARD
BEGIN:DAYLIGHT
TZOFFSETFROM:-0500
TZOFFSETTO:-0400
TZNAME:EDT
DTSTART:20180311T070000
END:DAYLIGHT
BEGIN:STANDARD
TZOFFSETFROM:-0400
TZOFFSETTO:-0500
TZNAME:EST
DTSTART:20181104T060000
END:STANDARD
BEGIN:DAYLIGHT
TZOFFSETFROM:-0500
TZOFFSETTO:-0400
TZNAME:EDT
DTSTART:20190310T070000
END:DAYLIGHT
BEGIN:STANDARD
TZOFFSETFROM:-0400
TZOFFSETTO:-0500
TZNAME:EST
DTSTART:20191103T060000
END:STANDARD
END:VTIMEZONE
BEGIN:VEVENT
DTSTART;TZID=America/New_York:20180521T174500
DTEND;TZID=America/New_York:20180521T194500
DTSTAMP:20260422T064717
CREATED:20180417T134750Z
LAST-MODIFIED:20180417T134750Z
UID:3676-1526924700-1526931900@twp.jamestown.mi.us
SUMMARY:Fire Board Meeting
DESCRIPTION:
URL:https://twp.jamestown.mi.us/event/fire-board-meeting-6/
LOCATION:Jamestown Charter Township Hall\, 2380 Riley Street\, Hudsonville\, MI\, 49426\, United States
END:VEVENT
BEGIN:VEVENT
DTSTART;TZID=America/New_York:20180515T190000
DTEND;TZID=America/New_York:20180515T210000
DTSTAMP:20260422T064717
CREATED:20171221T185928Z
LAST-MODIFIED:20171221T185928Z
UID:3203-1526410800-1526418000@twp.jamestown.mi.us
SUMMARY:Planning Commission Meeting
DESCRIPTION:
URL:https://twp.jamestown.mi.us/event/planning-commission-meeting-12/
LOCATION:Jamestown Charter Township Hall\, 2380 Riley Street\, Hudsonville\, MI\, 49426\, United States
END:VEVENT
BEGIN:VEVENT
DTSTART;TZID=America/New_York:20180508T080000
DTEND;TZID=America/New_York:20180508T160000
DTSTAMP:20260422T064717
CREATED:20180129T150530Z
LAST-MODIFIED:20180129T154435Z
UID:3396-1525766400-1525795200@twp.jamestown.mi.us
SUMMARY:Precinct Delegate Filing Deadline
DESCRIPTION:A candidate who seeks a precinct delegate position must complete and file an Affidavit of Identity with the Ottawa County Clerk’s Office no later than 4:00 p.m. on Tuesday\, May 8\, 2018 (the thirteenth Tuesday prior to the August primary). Please note that the affidavit may only be submitted to the County Clerk\, not the Township Clerk. \n  \n  \n  \n 
URL:https://twp.jamestown.mi.us/event/precinct-delegate-filing-deadline/
ORGANIZER;CN="Ottawa County Clerk":MAILTO:countyclerk@miottawa.org
END:VEVENT
BEGIN:VEVENT
DTSTART;TZID=America/New_York:20180508T070000
DTEND;TZID=America/New_York:20180508T200000
DTSTAMP:20260422T064717
CREATED:20180123T190020Z
LAST-MODIFIED:20180123T190020Z
UID:3357-1525762800-1525809600@twp.jamestown.mi.us
SUMMARY:School Election
DESCRIPTION:Polls are open 7:00 am to 8:00 pm.
URL:https://twp.jamestown.mi.us/event/school-election/
END:VEVENT
BEGIN:VEVENT
DTSTART;TZID=America/New_York:20180505T090000
DTEND;TZID=America/New_York:20180505T150000
DTSTAMP:20260422T064717
CREATED:20180409T134250Z
LAST-MODIFIED:20180409T134322Z
UID:3629-1525510800-1525532400@twp.jamestown.mi.us
SUMMARY:Trinity CRC Stream Team's Annual Spring Survey on Rush Creek
DESCRIPTION:  \nThe Trinity CRC Stream Team\, located at O-60 Port Sheldon Rd\, in Grandville\, is involved in macro invertebrate studies as part of a grant from MiCorp\, an organization that works with the Michigan DEQ in enlisting volunteer organizations to help monitor the health of streams and lakes in Michigan. Macro invertebrate surveys are one way that stream health is measured. Volunteers will be meeting at Trinity CRC at 9:00 on the morning of Saturday\, May 5th to do our annual spring survey. After a brief time of instruction about MiCorp protocol for doing macro invertebrate surveys and habitat surveys\, we will divide into 5 groups\, each group having a trained leader\, and gather our gear and head out in groups to 5 different sites on Rush Creek. At the sites\, the group will take up the tasks involved in collecting and sorting different types of macro invertebrates found in the creek. The group will also spend some time assessing the state of the habitat at their particular site location. After this outdoor work is done\, we will gather back at Trinity\, have a little lunch together\, and then work together on further sorting\, identifying\, and counting the macro invertebrates. The plan is to wrap this all up by 3:00. Volunteers need only bring themselves\, and no prior experience is required. There is no charge for this event. Volunteers should RSVP to Pastor Gerry Koning at pastorgerry@trinity-crc.org\, and questions can be directed there as well.
URL:https://twp.jamestown.mi.us/event/trinity-crc-stream-teams-annual-spring-survey-on-rush-creek/
LOCATION:Trinity Christian Reformed Church\, O-60 Port Sheldon Rd\, Grandville / Jenison\, MI\, 49418\, United States
ORGANIZER;CN="Pastor Gerry Koning":MAILTO:pastorgerry@trinity-crc.org
GEO:42.9018461;-85.783068
X-APPLE-STRUCTURED-LOCATION;VALUE=URI;X-ADDRESS=Trinity Christian Reformed Church O-60 Port Sheldon Rd Grandville / Jenison MI 49418 United States;X-APPLE-RADIUS=500;X-TITLE=O-60 Port Sheldon Rd:geo:-85.783068,42.9018461
END:VEVENT
BEGIN:VEVENT
DTSTART;TZID=America/New_York:20180505T090000
DTEND;TZID=America/New_York:20180505T140000
DTSTAMP:20260422T064717
CREATED:20180123T191553Z
LAST-MODIFIED:20180123T192706Z
UID:3367-1525510800-1525528800@twp.jamestown.mi.us
SUMMARY:Special Hours - Clerk's Office
DESCRIPTION:In accordance with section 168.759 of the Michigan Compiled Law\, the Clerk’s Office will be open from 9:00 am to 2:00 pm on Saturday\, May 5\, 2018 (the Saturday prior to Election Day) to assist any registered voters still needing to request an absentee ballot for the Tuesday\, May 8\, 2018 School Election.
URL:https://twp.jamestown.mi.us/event/special-election-hours-clerks-office/
LOCATION:Jamestown Charter Township Hall\, 2380 Riley Street\, Hudsonville\, MI\, 49426\, United States
ORGANIZER;CN="Candy DeHaan%2C Twp Clerk":MAILTO:cdehaan@twp.jamestown.mi.us
END:VEVENT
BEGIN:VEVENT
DTSTART;TZID=America/New_York:20180504T083000
DTEND;TZID=America/New_York:20180504T100000
DTSTAMP:20260422T064717
CREATED:20180306T165421Z
LAST-MODIFIED:20180409T141751Z
UID:3493-1525422600-1525428000@twp.jamestown.mi.us
SUMMARY:Legislative Forum hosted by Ottawa County
DESCRIPTION:RSVP by April 27 to Stephanie at sroelofs@miottawa.org
URL:https://twp.jamestown.mi.us/event/legislative-forum-hosted-by-ottawa-county/
LOCATION:Ottawa County Fillmore Complex\, 12220 Fillmore Street\, West Olive\, MI\, 49460\, United States
GEO:42.9402616;-86.0880957
X-APPLE-STRUCTURED-LOCATION;VALUE=URI;X-ADDRESS=Ottawa County Fillmore Complex 12220 Fillmore Street West Olive MI 49460 United States;X-APPLE-RADIUS=500;X-TITLE=12220 Fillmore Street:geo:-86.0880957,42.9402616
END:VEVENT
BEGIN:VEVENT
DTSTART;TZID=America/New_York:20180417T190000
DTEND;TZID=America/New_York:20180417T210000
DTSTAMP:20260422T064717
CREATED:20171221T185848Z
LAST-MODIFIED:20180410T131633Z
UID:3200-1523991600-1523998800@twp.jamestown.mi.us
SUMMARY:Planning Commission Meeting **CANCELLED**
DESCRIPTION:This meeting has been cancelled.
URL:https://twp.jamestown.mi.us/event/planning-commission-meeting-11/
END:VEVENT
BEGIN:VEVENT
DTSTART;TZID=America/New_York:20180416T190000
DTEND;TZID=America/New_York:20180416T210000
DTSTAMP:20260422T064717
CREATED:20171221T183219Z
LAST-MODIFIED:20171221T183219Z
UID:3153-1523905200-1523912400@twp.jamestown.mi.us
SUMMARY:Township Board Meeting
DESCRIPTION:
URL:https://twp.jamestown.mi.us/event/township-board-meeting-11/
LOCATION:Jamestown Charter Township Hall\, 2380 Riley Street\, Hudsonville\, MI\, 49426\, United States
END:VEVENT
BEGIN:VEVENT
DTSTART;TZID=America/New_York:20180409T090000
DTEND;TZID=America/New_York:20180409T170000
DTSTAMP:20260422T064717
CREATED:20180129T144637Z
LAST-MODIFIED:20180129T144955Z
UID:3383-1523264400-1523293200@twp.jamestown.mi.us
SUMMARY:Voter Registration Deadline for May 8\, 2018 Special Election
DESCRIPTION:You must be registered to vote at least 30 days prior to any election to be able to vote in that election. To vote in the Tuesday\, May 8\, 2018 Special Election you will need to register on or before Monday\, April 9\, 2018.
URL:https://twp.jamestown.mi.us/event/voter-registration-deadline-for-may-8-2018-election/
LOCATION:Jamestown Charter Township Hall\, 2380 Riley Street\, Hudsonville\, MI\, 49426\, United States
ORGANIZER;CN="Candy DeHaan%2C Twp Clerk":MAILTO:cdehaan@twp.jamestown.mi.us
END:VEVENT
BEGIN:VEVENT
DTSTART;TZID=America/New_York:20180403T190000
DTEND;TZID=America/New_York:20180403T210000
DTSTAMP:20260422T064717
CREATED:20180326T173404Z
LAST-MODIFIED:20180326T173404Z
UID:3576-1522782000-1522789200@twp.jamestown.mi.us
SUMMARY:Planning Commission - Special Meeting
DESCRIPTION:NEW BUSINESS\nPublic Hearings: \n\nCamp Bow Wow – 3625 Quincy Street\, 70-18-05-300-012 – Seeking to construct an 8\,880 square foot dog day care and related offices.\nSPRC Recommendation of Moratorium on High Density Multi-family developments.
URL:https://twp.jamestown.mi.us/event/planning-commission-special-meeting/
LOCATION:Jamestown Charter Township Hall\, 2380 Riley Street\, Hudsonville\, MI\, 49426\, United States
END:VEVENT
BEGIN:VEVENT
DTSTART;TZID=America/New_York:20180403T180000
DTEND;TZID=America/New_York:20180403T200000
DTSTAMP:20260422T064717
CREATED:20180327T131312Z
LAST-MODIFIED:20180327T131312Z
UID:3580-1522778400-1522785600@twp.jamestown.mi.us
SUMMARY:Zoning Board of Appeals Meeting
DESCRIPTION:Agenda item:\nA request from Mark Goorhouse of 195 Riley Street also known as permanent parcel 70-18-12-400-022\, for a variance to construct an accessory building that will contain farm animals ten (10) feet from a side property line instead of the required seventy five (75) feet. This variance would provide relief from Section 3.5 b of the Jamestown Charter Township Zoning Ordinance.
URL:https://twp.jamestown.mi.us/event/zoning-board-of-appeals-meeting/
LOCATION:Jamestown Charter Township Hall\, 2380 Riley Street\, Hudsonville\, MI\, 49426\, United States
END:VEVENT
BEGIN:VEVENT
DTSTART;TZID=America/New_York:20180320T190000
DTEND;TZID=America/New_York:20180320T210000
DTSTAMP:20260422T064717
CREATED:20171221T185815Z
LAST-MODIFIED:20171221T185815Z
UID:3197-1521572400-1521579600@twp.jamestown.mi.us
SUMMARY:Planning Commission Meeting
DESCRIPTION:
URL:https://twp.jamestown.mi.us/event/planning-commission-meeting-10/
LOCATION:Jamestown Charter Township Hall\, 2380 Riley Street\, Hudsonville\, MI\, 49426\, United States
END:VEVENT
BEGIN:VEVENT
DTSTART;TZID=America/New_York:20180319T190000
DTEND;TZID=America/New_York:20180319T210000
DTSTAMP:20260422T064717
CREATED:20171221T183117Z
LAST-MODIFIED:20180306T164431Z
UID:3150-1521486000-1521493200@twp.jamestown.mi.us
SUMMARY:Township Board Meeting & Public Hearing on Budget for 2018 Fiscal Year
DESCRIPTION:At this regular meeting of the Township Board\, the Board will hear and consider comments regarding the proposed Township budget for the 2018 fiscal year. A copy of the budget is available for public inspection at the Jamestown Charter Township Hall. \nThe property tax millage rate proposed to be levied to support the proposed budget will be a subject of this hearing.*
URL:https://twp.jamestown.mi.us/event/township-board-meeting-10/
LOCATION:Jamestown Charter Township Hall\, 2380 Riley Street\, Hudsonville\, MI\, 49426\, United States
END:VEVENT
BEGIN:VEVENT
DTSTART;TZID=America/New_York:20180315T180000
DTEND;TZID=America/New_York:20180315T200000
DTSTAMP:20260422T064717
CREATED:20170727T151631Z
LAST-MODIFIED:20170727T151644Z
UID:2214-1521136800-1521144000@twp.jamestown.mi.us
SUMMARY:Patmos Library Board Meeting
DESCRIPTION:
URL:https://twp.jamestown.mi.us/event/patmos-library-board-meeting-8/
LOCATION:Patmos Library\, 2445 Riley Street\, Hudsonville\, MI\, 49426\, United States
GEO:42.8260028;-85.8435086
X-APPLE-STRUCTURED-LOCATION;VALUE=URI;X-ADDRESS=Patmos Library 2445 Riley Street Hudsonville MI 49426 United States;X-APPLE-RADIUS=500;X-TITLE=2445 Riley Street:geo:-85.8435086,42.8260028
END:VEVENT
BEGIN:VEVENT
DTSTART;TZID=America/New_York:20180313T150000
DTEND;TZID=America/New_York:20180313T210000
DTSTAMP:20260422T064717
CREATED:20180102T162345Z
LAST-MODIFIED:20180102T162345Z
UID:3260-1520953200-1520974800@twp.jamestown.mi.us
SUMMARY:Assessor's Board of Review Meetings
DESCRIPTION:On Tuesday\, March 13\, 2018\, the Assessor’s Board of Review meets with any property owner who would like his or her assessment to be reviewed further. To schedule your meeting\, please call the Jamestown Township Office at (616) 896-8376.
URL:https://twp.jamestown.mi.us/event/assessors-board-of-review-meetings-2/
LOCATION:Jamestown Charter Township Hall\, 2380 Riley Street\, Hudsonville\, MI\, 49426\, United States
END:VEVENT
BEGIN:VEVENT
DTSTART;TZID=America/New_York:20180312T090000
DTEND;TZID=America/New_York:20180312T150000
DTSTAMP:20260422T064717
CREATED:20180102T162211Z
LAST-MODIFIED:20180102T162237Z
UID:3255-1520845200-1520866800@twp.jamestown.mi.us
SUMMARY:Assessor's Board of Review Meetings
DESCRIPTION:On Monday\, March 12\, 2018\, the Assessor’s Board of Review meets with any property owner who would like his or her assessment to be reviewed further. To schedule your meeting\, please call the Jamestown Township Office at (616) 896-8376.
URL:https://twp.jamestown.mi.us/event/assessors-board-of-review-meetings/
LOCATION:Jamestown Charter Township Hall\, 2380 Riley Street\, Hudsonville\, MI\, 49426\, United States
END:VEVENT
BEGIN:VEVENT
DTSTART;TZID=America/New_York:20180220T190000
DTEND;TZID=America/New_York:20180220T210000
DTSTAMP:20260422T064717
CREATED:20171221T185735Z
LAST-MODIFIED:20171221T185735Z
UID:3194-1519153200-1519160400@twp.jamestown.mi.us
SUMMARY:Planning Commission Meeting
DESCRIPTION:
URL:https://twp.jamestown.mi.us/event/planning-commission-meeting-9/
LOCATION:Jamestown Charter Township Hall\, 2380 Riley Street\, Hudsonville\, MI\, 49426\, United States
END:VEVENT
BEGIN:VEVENT
DTSTART;TZID=America/New_York:20180219T190000
DTEND;TZID=America/New_York:20180219T210000
DTSTAMP:20260422T064717
CREATED:20171221T183027Z
LAST-MODIFIED:20171221T183027Z
UID:3147-1519066800-1519074000@twp.jamestown.mi.us
SUMMARY:Township Board Meeting
DESCRIPTION:
URL:https://twp.jamestown.mi.us/event/township-board-meeting-9/
LOCATION:Jamestown Charter Township Hall\, 2380 Riley Street\, Hudsonville\, MI\, 49426\, United States
END:VEVENT
BEGIN:VEVENT
DTSTART;TZID=America/New_York:20180215T180000
DTEND;TZID=America/New_York:20180215T200000
DTSTAMP:20260422T064717
CREATED:20170727T151542Z
LAST-MODIFIED:20170727T151542Z
UID:2211-1518717600-1518724800@twp.jamestown.mi.us
SUMMARY:Patmos Library Board Meeting
DESCRIPTION:
URL:https://twp.jamestown.mi.us/event/patmos-library-board-meeting-7/
LOCATION:Patmos Library\, 2445 Riley Street\, Hudsonville\, MI\, 49426\, United States
GEO:42.8260028;-85.8435086
X-APPLE-STRUCTURED-LOCATION;VALUE=URI;X-ADDRESS=Patmos Library 2445 Riley Street Hudsonville MI 49426 United States;X-APPLE-RADIUS=500;X-TITLE=2445 Riley Street:geo:-85.8435086,42.8260028
END:VEVENT
BEGIN:VEVENT
DTSTART;VALUE=DATE:20180214
DTEND;VALUE=DATE:20180215
DTSTAMP:20260422T064717
CREATED:20180123T180958Z
LAST-MODIFIED:20180123T181416Z
UID:3346-1518566400-1518652799@twp.jamestown.mi.us
SUMMARY:Special Hours - Winter Taxes Due
DESCRIPTION:The Treasurer’s Office will be open from 9:00 am to 5:00 pm to receive tax payments.
URL:https://twp.jamestown.mi.us/event/winter-taxes-due/
LOCATION:Jamestown Charter Township Hall\, 2380 Riley Street\, Hudsonville\, MI\, 49426\, United States
END:VEVENT
BEGIN:VEVENT
DTSTART;TZID=America/New_York:20180210T090000
DTEND;TZID=America/New_York:20180210T120000
DTSTAMP:20260422T064717
CREATED:20180123T181220Z
LAST-MODIFIED:20180123T181632Z
UID:3349-1518253200-1518264000@twp.jamestown.mi.us
SUMMARY:Special Hours - Treasurer's Office
DESCRIPTION:The Treasurer’s Office will be open from 9:00 am-Noon to receive tax payments.
URL:https://twp.jamestown.mi.us/event/special-hours-treasurers-office/
LOCATION:Jamestown Charter Township Hall\, 2380 Riley Street\, Hudsonville\, MI\, 49426\, United States
END:VEVENT
BEGIN:VEVENT
DTSTART;TZID=America/New_York:20180208T190000
DTEND;TZID=America/New_York:20180208T210000
DTSTAMP:20260422T064717
CREATED:20180116T141540Z
LAST-MODIFIED:20180116T141540Z
UID:3300-1518116400-1518123600@twp.jamestown.mi.us
SUMMARY:Fire Department Liaison Committee Meeting
DESCRIPTION:
URL:https://twp.jamestown.mi.us/event/fire-department-liaison-committee-meeting/
LOCATION:Jamestown Charter Township Hall\, 2380 Riley Street\, Hudsonville\, MI\, 49426\, United States
END:VEVENT
BEGIN:VEVENT
DTSTART;TZID=America/New_York:20180116T190000
DTEND;TZID=America/New_York:20180116T210000
DTSTAMP:20260422T064717
CREATED:20171221T185657Z
LAST-MODIFIED:20171221T185657Z
UID:3191-1516129200-1516136400@twp.jamestown.mi.us
SUMMARY:Planning Commission Meeting
DESCRIPTION:
URL:https://twp.jamestown.mi.us/event/planning-commission-meeting-8/
LOCATION:Jamestown Charter Township Hall\, 2380 Riley Street\, Hudsonville\, MI\, 49426\, United States
END:VEVENT
BEGIN:VEVENT
DTSTART;TZID=America/New_York:20180115T180000
DTEND;TZID=America/New_York:20180115T210000
DTSTAMP:20260422T064717
CREATED:20171221T182930Z
LAST-MODIFIED:20171226T151353Z
UID:3143-1516039200-1516050000@twp.jamestown.mi.us
SUMMARY:Library Budget Work Session with Township & Library Boards\, followed by regular Township Board Meeting
DESCRIPTION:6:00-7:00 PM – Library Budget Work Session with the Township & Library Boards \n7:00-9:00 PM – Regularly scheduled Township Board Meeting \nBoth meetings are open to the public. \n 
URL:https://twp.jamestown.mi.us/event/township-board-meeting-8/
LOCATION:Jamestown Charter Township Hall\, 2380 Riley Street\, Hudsonville\, MI\, 49426\, United States
END:VEVENT
BEGIN:VEVENT
DTSTART;TZID=America/New_York:20180111T190000
DTEND;TZID=America/New_York:20180111T210000
DTSTAMP:20260422T064717
CREATED:20180104T172838Z
LAST-MODIFIED:20180104T173752Z
UID:3268-1515697200-1515704400@twp.jamestown.mi.us
SUMMARY:Fire Department Liaison Committee Meeting
DESCRIPTION:
URL:https://twp.jamestown.mi.us/event/fire-department-liaison-committee/
LOCATION:Jamestown Charter Township Hall\, 2380 Riley Street\, Hudsonville\, MI\, 49426\, United States
END:VEVENT
BEGIN:VEVENT
DTSTART;TZID=America/New_York:20180111T180000
DTEND;TZID=America/New_York:20180111T200000
DTSTAMP:20260422T064717
CREATED:20170727T151455Z
LAST-MODIFIED:20170727T151455Z
UID:2208-1515693600-1515700800@twp.jamestown.mi.us
SUMMARY:Patmos Library Board Meeting
DESCRIPTION:
URL:https://twp.jamestown.mi.us/event/patmos-library-board-meeting-6/
LOCATION:Patmos Library\, 2445 Riley Street\, Hudsonville\, MI\, 49426\, United States
GEO:42.8260028;-85.8435086
X-APPLE-STRUCTURED-LOCATION;VALUE=URI;X-ADDRESS=Patmos Library 2445 Riley Street Hudsonville MI 49426 United States;X-APPLE-RADIUS=500;X-TITLE=2445 Riley Street:geo:-85.8435086,42.8260028
END:VEVENT
BEGIN:VEVENT
DTSTART;VALUE=DATE:20180101
DTEND;VALUE=DATE:20180102
DTSTAMP:20260422T064717
CREATED:20171116T161618Z
LAST-MODIFIED:20171116T161618Z
UID:3036-1514764800-1514851199@twp.jamestown.mi.us
SUMMARY:Township Office Closed - New Year's Day
DESCRIPTION:The Jamestown Township Office will be closed for observance of New Year’s Day on Monday\, January 1\, 2018.  Regular business hours will resume on Tuesday\, January 2nd at 9:00 AM. Happy New Year!
URL:https://twp.jamestown.mi.us/event/township-office-closed-new-years-day/
LOCATION:Township Hall
END:VEVENT
BEGIN:VEVENT
DTSTART;VALUE=DATE:20171225
DTEND;VALUE=DATE:20171226
DTSTAMP:20260422T064717
CREATED:20171116T152638Z
LAST-MODIFIED:20171116T161714Z
UID:3028-1514160000-1514246399@twp.jamestown.mi.us
SUMMARY:Township Office Closed - Christmas Holiday
DESCRIPTION:The Jamestown Township Office will be closed on Monday\, December 25\, 2017\, in observance of the Christmas holiday. Regular office hours will resume on Tuesday\, December 26th at 9:00 AM.  May you have a very Merry Christmas!
URL:https://twp.jamestown.mi.us/event/township-office-closed-christmas-holiday/
LOCATION:Township Hall
END:VEVENT
BEGIN:VEVENT
DTSTART;TZID=America/New_York:20171219T190000
DTEND;TZID=America/New_York:20171219T210000
DTSTAMP:20260422T064717
CREATED:20170727T142249Z
LAST-MODIFIED:20170727T142249Z
UID:2140-1513710000-1513717200@twp.jamestown.mi.us
SUMMARY:Planning Commission Meeting
DESCRIPTION:
URL:https://twp.jamestown.mi.us/event/planning-commission-meeting-6/
LOCATION:Jamestown Charter Township Hall\, 2380 Riley Street\, Hudsonville\, MI\, 49426\, United States
END:VEVENT
END:VCALENDAR