BEGIN:VCALENDAR
VERSION:2.0
PRODID:-//Jamestown Charter Township - ECPv6.15.18//NONSGML v1.0//EN
CALSCALE:GREGORIAN
METHOD:PUBLISH
X-WR-CALNAME:Jamestown Charter Township
X-ORIGINAL-URL:https://twp.jamestown.mi.us
X-WR-CALDESC:Events for Jamestown Charter Township
REFRESH-INTERVAL;VALUE=DURATION:PT1H
X-Robots-Tag:noindex
X-PUBLISHED-TTL:PT1H
BEGIN:VTIMEZONE
TZID:America/New_York
BEGIN:DAYLIGHT
TZOFFSETFROM:-0500
TZOFFSETTO:-0400
TZNAME:EDT
DTSTART:20230312T070000
END:DAYLIGHT
BEGIN:STANDARD
TZOFFSETFROM:-0400
TZOFFSETTO:-0500
TZNAME:EST
DTSTART:20231105T060000
END:STANDARD
BEGIN:DAYLIGHT
TZOFFSETFROM:-0500
TZOFFSETTO:-0400
TZNAME:EDT
DTSTART:20240310T070000
END:DAYLIGHT
BEGIN:STANDARD
TZOFFSETFROM:-0400
TZOFFSETTO:-0500
TZNAME:EST
DTSTART:20241103T060000
END:STANDARD
BEGIN:DAYLIGHT
TZOFFSETFROM:-0500
TZOFFSETTO:-0400
TZNAME:EDT
DTSTART:20250309T070000
END:DAYLIGHT
BEGIN:STANDARD
TZOFFSETFROM:-0400
TZOFFSETTO:-0500
TZNAME:EST
DTSTART:20251102T060000
END:STANDARD
END:VTIMEZONE
BEGIN:VEVENT
DTSTART;TZID=America/New_York:20240917T190000
DTEND;TZID=America/New_York:20240917T210000
DTSTAMP:20260423T073312
CREATED:20231228T151813Z
LAST-MODIFIED:20240321T150816Z
UID:9652-1726599600-1726606800@twp.jamestown.mi.us
SUMMARY:Planning Commission Meeting
DESCRIPTION:
URL:https://twp.jamestown.mi.us/event/planning-commission-meeting-48-2024-02-20/2024-09-17/
LOCATION:Jamestown Charter Township Hall\, 2380 Riley Street\, Hudsonville\, MI\, 49426\, United States
END:VEVENT
BEGIN:VEVENT
DTSTART;TZID=America/New_York:20240820T190000
DTEND;TZID=America/New_York:20240820T210000
DTSTAMP:20260423T073312
CREATED:20231228T151813Z
LAST-MODIFIED:20240321T150816Z
UID:9651-1724180400-1724187600@twp.jamestown.mi.us
SUMMARY:Planning Commission Meeting
DESCRIPTION:
URL:https://twp.jamestown.mi.us/event/planning-commission-meeting-48-2024-02-20/2024-08-20/
LOCATION:Jamestown Charter Township Hall\, 2380 Riley Street\, Hudsonville\, MI\, 49426\, United States
END:VEVENT
BEGIN:VEVENT
DTSTART;TZID=America/New_York:20240716T190000
DTEND;TZID=America/New_York:20240716T210000
DTSTAMP:20260423T073312
CREATED:20231228T151813Z
LAST-MODIFIED:20240321T150816Z
UID:9650-1721156400-1721163600@twp.jamestown.mi.us
SUMMARY:Planning Commission Meeting
DESCRIPTION:
URL:https://twp.jamestown.mi.us/event/planning-commission-meeting-48-2024-02-20/2024-07-16/
LOCATION:Jamestown Charter Township Hall\, 2380 Riley Street\, Hudsonville\, MI\, 49426\, United States
END:VEVENT
BEGIN:VEVENT
DTSTART;TZID=America/New_York:20240618T190000
DTEND;TZID=America/New_York:20240618T210000
DTSTAMP:20260423T073312
CREATED:20231228T151813Z
LAST-MODIFIED:20240321T150816Z
UID:9649-1718737200-1718744400@twp.jamestown.mi.us
SUMMARY:Planning Commission Meeting
DESCRIPTION:
URL:https://twp.jamestown.mi.us/event/planning-commission-meeting-48-2024-02-20/2024-06-18/
LOCATION:Jamestown Charter Township Hall\, 2380 Riley Street\, Hudsonville\, MI\, 49426\, United States
END:VEVENT
BEGIN:VEVENT
DTSTART;TZID=America/New_York:20240521T190000
DTEND;TZID=America/New_York:20240521T210000
DTSTAMP:20260423T073312
CREATED:20231228T151813Z
LAST-MODIFIED:20240321T150815Z
UID:9648-1716318000-1716325200@twp.jamestown.mi.us
SUMMARY:Planning Commission Meeting
DESCRIPTION:
URL:https://twp.jamestown.mi.us/event/planning-commission-meeting-48-2024-02-20/2024-05-21/
LOCATION:Jamestown Charter Township Hall\, 2380 Riley Street\, Hudsonville\, MI\, 49426\, United States
END:VEVENT
BEGIN:VEVENT
DTSTART;TZID=America/New_York:20240220T190000
DTEND;TZID=America/New_York:20240220T210000
DTSTAMP:20260423T073312
CREATED:20231228T151813Z
LAST-MODIFIED:20240321T150815Z
UID:9645-1708455600-1708462800@twp.jamestown.mi.us
SUMMARY:Planning Commission Meeting
DESCRIPTION:
URL:https://twp.jamestown.mi.us/event/planning-commission-meeting-48-2024-02-20/2024-02-20/
LOCATION:Jamestown Charter Township Hall\, 2380 Riley Street\, Hudsonville\, MI\, 49426\, United States
END:VEVENT
END:VCALENDAR