BEGIN:VCALENDAR
VERSION:2.0
PRODID:-//Jamestown Charter Township - ECPv6.15.18//NONSGML v1.0//EN
CALSCALE:GREGORIAN
METHOD:PUBLISH
X-ORIGINAL-URL:https://twp.jamestown.mi.us
X-WR-CALDESC:Events for Jamestown Charter Township
REFRESH-INTERVAL;VALUE=DURATION:PT1H
X-Robots-Tag:noindex
X-PUBLISHED-TTL:PT1H
BEGIN:VTIMEZONE
TZID:America/New_York
BEGIN:DAYLIGHT
TZOFFSETFROM:-0500
TZOFFSETTO:-0400
TZNAME:EDT
DTSTART:20210314T070000
END:DAYLIGHT
BEGIN:STANDARD
TZOFFSETFROM:-0400
TZOFFSETTO:-0500
TZNAME:EST
DTSTART:20211107T060000
END:STANDARD
BEGIN:DAYLIGHT
TZOFFSETFROM:-0500
TZOFFSETTO:-0400
TZNAME:EDT
DTSTART:20220313T070000
END:DAYLIGHT
BEGIN:STANDARD
TZOFFSETFROM:-0400
TZOFFSETTO:-0500
TZNAME:EST
DTSTART:20221106T060000
END:STANDARD
BEGIN:DAYLIGHT
TZOFFSETFROM:-0500
TZOFFSETTO:-0400
TZNAME:EDT
DTSTART:20230312T070000
END:DAYLIGHT
BEGIN:STANDARD
TZOFFSETFROM:-0400
TZOFFSETTO:-0500
TZNAME:EST
DTSTART:20231105T060000
END:STANDARD
END:VTIMEZONE
BEGIN:VEVENT
DTSTART;TZID=America/New_York:20221018T190000
DTEND;TZID=America/New_York:20221018T210000
DTSTAMP:20260423T145331
CREATED:20211213T205224Z
LAST-MODIFIED:20221011T152305Z
UID:8130-1666119600-1666126800@twp.jamestown.mi.us
SUMMARY:Planning Commission Meeting
DESCRIPTION:NOTICE OF A PUBLIC HEARING \nJAMESTOWN CHARTER TOWNSHIP PLANNING COMMISSION \n  \nTO:      CITIZENS AND RESIDENTS OF THE CHARTER TOWNSHIP OF JAMESTOWN\, OTTAWA COUNTY\, MICHIGAN. \nPLEASE TAKE NOTICE that on Tuesday\, October 18\, 2022\, at 7:00 p.m.\, local time\, a public hearing will be held by the Planning Commission of the Charter Township of Jamestown\, Ottawa County\, Michigan\, at the Jamestown Charter Township Hall\, 2380 Riley Street\, Hudsonville\, Michigan\, 49426\, to hear and consider a text amendment changes to amend Section 2.3 – Accessory Building or Structure; to add Section 3.2N – Accessory Buildings\, Structures and Uses; to amend Section 13.2A15 – Permitted Uses; to add Section 13.2A16 – Permitted Uses; to amend Section 14.2J – Permitted Principal Uses; to add Section 14.2K – Permitted Principal Uses\, to add Section 14.2L – Permitted Principal Uses; to amend Section 19.3A – Project Design Standards\, Density of the Zoning Ordinance Text of the Charter Township of Jamestown. \nSection 1 \nThe following is a summary of the proposed text amendment to revise Section 2.3 – Accessory Building or Structure of the Jamestown Charter Township Zoning Ordinance. \nSection 2.3 – Accessory Building or Structure \nThe text amendment proposes to revise Section 2.3 to correct old section references and add a subclassification of Solar Energy/Equipment Systems as an accessory building or structure. \nSection 2 \nSection 3.2N – Accessory Buildings\, Structures and Uses of the Jamestown Charter Township Zoning Ordinance is proposed to be added in its entirety as follows. \nSection 3.2N – Accessory Buildings\, Structures and Uses \nFor the purposes of applying this Section 3.2\, a solar energy equipment/system shall be considered an accessory building\, and is therefore subject to same size and numerical limitations that apply to accessory buildings. \nSection 3 \nSection 13.2A15 – Permitted Uses of the Jamestown Charter Township Zoning Ordinance is proposed to be amended in its entirety as follows. \nSection 13.2A15 – Permitted Uses \nOffices and showrooms of a plumber\, electrician\, building contractor\, upholsterer\, caterer\, decorator\, taxidermist\, exterminator\, or similar trade subject to the following conditions: \n\nAll services performed on the premises\, including fabrication\, repair\, cleaning or other processing of goods\, shall be sold at retail on the premises where produced.\nThe ground floor premises facing upon and visible from any abutting streets shall be used only for entrances\, offices\, sales\, or display.\nThere shall be no outside storage and/or display of materials or goods of any kind.\n\nSection 4 \nSection 13.2A16 – Permitted Uses of the Jamestown Charter Township Zoning Ordinance is proposed to be added in its entirety as follows. \nSection 13.2A16 – Permitted Uses \nAccessory uses including customary and incidental retail sales accessory to the foregoing permitted uses. \nSection 5 \nSection 14.2J – Principal Permitted Uses of the Jamestown Charter Township Zoning Ordinance is proposed to be amended in its entirety as follows. \nSection 14.2J – Principal Permitted Uses \nOffices and showrooms of a plumber\, electrician\, building contractor\, upholsterer\, caterer\, decorator\, taxidermist\, exterminator\, or similar trade subject to the following conditions: \n\nAll services performed on the premises\, including fabrication\, repair\, cleaning or other processing of goods\, shall be sold at retail on the premises where produced.\nThe ground floor premises facing upon and visible from any abutting streets shall be used only for entrances\, offices\, sales\, or display.\nThere shall be no outside storage and/or display of materials or goods of any kind.\n\nSection 6 \nSection 14.2K – Principal Permitted Uses of the Jamestown Charter Township Zoning Ordinance is proposed to be added in its entirety as follows. \nSection 14.2K – Principal Permitted Uses \nPower generation provided by solar energy equipment/systems\, wind turbines\, coal\, or other means to for off-site power consumption only. \nSection 7 \nSection 14.2L – Principal Permitted Uses of the Jamestown Charter Township Zoning Ordinance is proposed to be amended in its entirety as follows. \nSection 14.2L – Principal Permitted Uses \nAccessory buildings and uses customarily incidental to the above permitted uses. \nSection 8 \nThe following is a summary of the proposed text amendment to revise Section 19.3A – Project Design Standards\, Density of the Jamestown Charter Township Zoning Ordinance. \nSection 19.3A – Project Design Standards\, Density \nThe text amendment proposes to revise Section 19.3A to establish the maximum density of residential uses in the R-1\, R-2\, R-3\, and AR Zoning Districts\, and to update the reference to a General Development Plan to a Master Plan. \nSection 9 \nAny person interested in these matters may appear at such hearing in person or by agent or attorney. The tentative text amendments may be examined by any person at the Jamestown Township Hall. Written comments concerning these matters may be filed prior to the hearing with the Jamestown Charter Township Clerk\, Jamestown Charter Township Hall\, 2380 Riley Street\, Hudsonville\, Michigan\, 49426\, (Phone 616-896-8376)\, between 9:00 a.m. and 5:00 p.m.\, Monday\, Tuesday and Thursday. \nIndividuals with disabilities requiring auxiliary aids or services should contact the Township Office five (5) days prior to the hearing. \nDated: September 27\, 2022 \nCandy DeHaan\, Clerk \nJamestown Charter Township
URL:https://twp.jamestown.mi.us/event/planning-commission-meeting-46-2022-10-18/2022-10-18/
LOCATION:Jamestown Charter Township Hall\, 2380 Riley Street\, Hudsonville\, MI\, 49426\, United States
END:VEVENT
END:VCALENDAR